BEGIN:VCALENDAR
VERSION:2.0
PRODID:-//Church of the Apostles UCC - ECPv6.13.2.1//NONSGML v1.0//EN
CALSCALE:GREGORIAN
METHOD:PUBLISH
X-WR-CALNAME:Church of the Apostles UCC
X-ORIGINAL-URL:https://apostlesucc.org
X-WR-CALDESC:Events for Church of the Apostles UCC
REFRESH-INTERVAL;VALUE=DURATION:PT1H
X-Robots-Tag:noindex
X-PUBLISHED-TTL:PT1H
BEGIN:VTIMEZONE
TZID:America/New_York
BEGIN:DAYLIGHT
TZOFFSETFROM:-0500
TZOFFSETTO:-0400
TZNAME:EDT
DTSTART:20250309T070000
END:DAYLIGHT
BEGIN:STANDARD
TZOFFSETFROM:-0400
TZOFFSETTO:-0500
TZNAME:EST
DTSTART:20251102T060000
END:STANDARD
END:VTIMEZONE
BEGIN:VEVENT
DTSTART;TZID=America/New_York:20251108T090000
DTEND;TZID=America/New_York:20251108T150000
DTSTAMP:20260423T165339
CREATED:20250625T141842Z
LAST-MODIFIED:20251008T151504Z
UID:37044-1762592400-1762614000@apostlesucc.org
SUMMARY:Crafter's Marketplace
DESCRIPTION:Join us for a day of shopping\, treats\, and community connection at the Church of the Apostles UCC Annual Crafter’s Marketplace! \n📅 Saturday\, November 8th🕘 9 AM – 3 PM📍 Fellowship Hall & surrounding hallways\, Church of the Apostles UCC \nThis year\, we have over 25 talented local vendors offering gifts for everyone on your list\, perfect for getting your Christmas shopping done early! Treat yourself too at the Apostles Choir Bake Sale\, featuring pies\, cakes\, and more. \nAll of our vendors are local artists and crafters\, so your purchases directly support small businesses in our community. Come for a day of holiday shopping\, fun\, and connection with neighbors! \nWe can’t wait to see you there!
URL:https://apostlesucc.org/event/crafters-marketplace/
LOCATION:Church of the Apostles UCC\, 1850 Marietta Ave\, Lancaster\, PA\, 17603\, United States
ATTACH;FMTTYPE=image/jpeg:https://apostlesucc.org/wp-content/uploads/2025/06/2025-Crafters-Marketplace-Ad.jpg
END:VEVENT
END:VCALENDAR