BEGIN:VCALENDAR
VERSION:2.0
PRODID:-//Church of the Apostles UCC - ECPv6.13.2.1//NONSGML v1.0//EN
CALSCALE:GREGORIAN
METHOD:PUBLISH
X-ORIGINAL-URL:https://apostlesucc.org
X-WR-CALDESC:Events for Church of the Apostles UCC
REFRESH-INTERVAL;VALUE=DURATION:PT1H
X-Robots-Tag:noindex
X-PUBLISHED-TTL:PT1H
BEGIN:VTIMEZONE
TZID:America/New_York
BEGIN:DAYLIGHT
TZOFFSETFROM:-0500
TZOFFSETTO:-0400
TZNAME:EDT
DTSTART:20250309T070000
END:DAYLIGHT
BEGIN:STANDARD
TZOFFSETFROM:-0400
TZOFFSETTO:-0500
TZNAME:EST
DTSTART:20251102T060000
END:STANDARD
END:VTIMEZONE
BEGIN:VEVENT
DTSTART;TZID=America/New_York:20251109T180000
DTEND;TZID=America/New_York:20251109T200000
DTSTAMP:20260423T165517
CREATED:20251029T174743Z
LAST-MODIFIED:20251029T174827Z
UID:37488-1762711200-1762718400@apostlesucc.org
SUMMARY:Community Game Night
DESCRIPTION:Join us on Sunday November 9th for games\, snacks\, and fun in the Youth Center. Bring your favorite games and invite your friends and family\, everyone is welcome!
URL:https://apostlesucc.org/event/community-game-night-6/
LOCATION:Youth Center\, 1879 Apostles Way\, Lancaster\, PA\, 17603\, United States
ATTACH;FMTTYPE=image/png:https://apostlesucc.org/wp-content/uploads/2025/10/COA-Game-Night-FB-PostFlyer.png
END:VEVENT
END:VCALENDAR