BEGIN:VCALENDAR
VERSION:2.0
PRODID:-//Church of the Apostles UCC - ECPv6.13.2.1//NONSGML v1.0//EN
CALSCALE:GREGORIAN
METHOD:PUBLISH
X-ORIGINAL-URL:https://apostlesucc.org
X-WR-CALDESC:Events for Church of the Apostles UCC
REFRESH-INTERVAL;VALUE=DURATION:PT1H
X-Robots-Tag:noindex
X-PUBLISHED-TTL:PT1H
BEGIN:VTIMEZONE
TZID:America/New_York
BEGIN:DAYLIGHT
TZOFFSETFROM:-0500
TZOFFSETTO:-0400
TZNAME:EDT
DTSTART:20250309T070000
END:DAYLIGHT
BEGIN:STANDARD
TZOFFSETFROM:-0400
TZOFFSETTO:-0500
TZNAME:EST
DTSTART:20251102T060000
END:STANDARD
END:VTIMEZONE
BEGIN:VEVENT
DTSTART;TZID=America/New_York:20251116T110000
DTEND;TZID=America/New_York:20251116T113000
DTSTAMP:20260423T182158
CREATED:20251001T161915Z
LAST-MODIFIED:20251023T141227Z
UID:37395-1763290800-1763292600@apostlesucc.org
SUMMARY:Annual Congregational Meeting
DESCRIPTION:Mark your calendars for Sunday\, November 16\, when we will gather for our Annual Congregational Meeting to vote on the 2026 Budget\, our new Inclusive Church Covenant\, and to spend the funds raised for the “Where Welcome Grows” capital campaign for the Sanctuary renovation. This is your opportunity to help shape the future of Church of the Apostles\, and your participation makes a difference. \nTo prepare\, our Board will host an Informational Session on Sunday\, November 9\, where you can ask questions about the budget\, learn more about the covenant\, and hear updates on the capital campaign. Your presence and input ensure that every decision reflects the heart of our community. Be involved\, be heard\, and help guide our next chapter together! \n 
URL:https://apostlesucc.org/event/annual-congregational-meeting/
LOCATION:Church of the Apostles UCC\, 1850 Marietta Ave\, Lancaster\, PA\, 17603\, United States
ATTACH;FMTTYPE=image/png:https://apostlesucc.org/wp-content/uploads/2025/10/Annual-Meeting-Reminder-2025.png
END:VEVENT
BEGIN:VEVENT
DTSTART;TZID=America/New_York:20251116T150000
DTEND;TZID=America/New_York:20251116T170000
DTSTAMP:20260423T182158
CREATED:20250625T143747Z
LAST-MODIFIED:20251023T141257Z
UID:37076-1763305200-1763312400@apostlesucc.org
SUMMARY:Apostles Academy Concerts: Lancaster Flute Ensemble
DESCRIPTION:Join us for a beautiful afternoon of music with the Lancaster Flute Ensemble on Sunday\, November 16th at 3 PM in the Sanctuary at Church of the Apostles UCC\, 1850 Marietta Ave\, Lancaster\, PA. \nThis talented group showcases a wide range of flutes and an equally diverse repertoire\, from classical to contemporary\, that’s sure to delight audiences of all ages. \n🎵 Free to attend! A free-will offering will be taken in lieu of tickets.♿ Our building is fully accessible with plenty of handicap parking available. \nAll are welcome\, bring a friend and enjoy an inspiring performance in our beautiful Sanctuary!
URL:https://apostlesucc.org/event/apostles-academy-concerts-lancaster-flute-ensemble/
LOCATION:Church of the Apostles UCC\, 1850 Marietta Ave\, Lancaster\, PA\, 17603\, United States
ATTACH;FMTTYPE=image/jpeg:https://apostlesucc.org/wp-content/uploads/2025/06/Lancaster-Flute-Ensemble-FB-11.11.25.jpg
END:VEVENT
BEGIN:VEVENT
DTSTART;TZID=America/New_York:20251116T180000
DTEND;TZID=America/New_York:20251116T200000
DTSTAMP:20260423T182158
CREATED:20251023T141134Z
LAST-MODIFIED:20251023T141134Z
UID:37472-1763316000-1763323200@apostlesucc.org
SUMMARY:Youth Group Meeting
DESCRIPTION:Calling all students in grades 4-12 (and friends)! Join us for our Youth Group at 6 PM in our permanent room\, Rm 306\, where we’ll have fun\, build friendships\, enjoy snacks\, and dive into a short Bible study.
URL:https://apostlesucc.org/event/youth-group-meeting-14/
LOCATION:Church of the Apostles UCC\, 1850 Marietta Ave\, Lancaster\, PA\, 17603\, United States
ATTACH;FMTTYPE=image/jpeg:https://apostlesucc.org/wp-content/uploads/2025/10/Youth-Group-Meeting-Slide.jpg
END:VEVENT
END:VCALENDAR