BEGIN:VCALENDAR
VERSION:2.0
PRODID:-//Church of the Apostles UCC - ECPv6.13.2.1//NONSGML v1.0//EN
CALSCALE:GREGORIAN
METHOD:PUBLISH
X-ORIGINAL-URL:https://apostlesucc.org
X-WR-CALDESC:Events for Church of the Apostles UCC
REFRESH-INTERVAL;VALUE=DURATION:PT1H
X-Robots-Tag:noindex
X-PUBLISHED-TTL:PT1H
BEGIN:VTIMEZONE
TZID:America/New_York
BEGIN:DAYLIGHT
TZOFFSETFROM:-0500
TZOFFSETTO:-0400
TZNAME:EDT
DTSTART:20250309T070000
END:DAYLIGHT
BEGIN:STANDARD
TZOFFSETFROM:-0400
TZOFFSETTO:-0500
TZNAME:EST
DTSTART:20251102T060000
END:STANDARD
END:VTIMEZONE
BEGIN:VEVENT
DTSTART;TZID=America/New_York:20251120T183000
DTEND;TZID=America/New_York:20251120T203000
DTSTAMP:20260423T182205
CREATED:20250804T174539Z
LAST-MODIFIED:20250804T174539Z
UID:37228-1763663400-1763670600@apostlesucc.org
SUMMARY:Mocktails & Meaning™: Neurodiversity & Inclusion
DESCRIPTION:Join us on Thursday\, November 20 at 6:30 PM in the Main Lobby for an engaging Mocktails & Meaning™ session with Kurt Iobst\, Global President of Neuroforce BRG. Kurt will lead a conversation on neurodiversity and inclusion\, sharing practical ways we can create more welcoming spaces for individuals with Autism\, ADHD\, OCD\, Down Syndrome\, and other neurodivergent experiences. \nThis month’s featured mocktail is a cozy Autumn Harvest Punch. \nTo Register\, Click Here.
URL:https://apostlesucc.org/event/mocktails-meaning-neurodiversity-inclusion/
LOCATION:Church of the Apostles UCC\, 1850 Marietta Ave\, Lancaster\, PA\, 17603\, United States
ATTACH;FMTTYPE=image/jpeg:https://apostlesucc.org/wp-content/uploads/2025/08/Mocktails-Meaning-Flyer-Banner-Landscape-2-scaled.jpg
END:VEVENT
END:VCALENDAR