BEGIN:VCALENDAR
VERSION:2.0
PRODID:-//Church of the Apostles UCC - ECPv6.13.2.1//NONSGML v1.0//EN
CALSCALE:GREGORIAN
METHOD:PUBLISH
X-ORIGINAL-URL:https://apostlesucc.org
X-WR-CALDESC:Events for Church of the Apostles UCC
REFRESH-INTERVAL;VALUE=DURATION:PT1H
X-Robots-Tag:noindex
X-PUBLISHED-TTL:PT1H
BEGIN:VTIMEZONE
TZID:America/New_York
BEGIN:DAYLIGHT
TZOFFSETFROM:-0500
TZOFFSETTO:-0400
TZNAME:EDT
DTSTART:20250309T070000
END:DAYLIGHT
BEGIN:STANDARD
TZOFFSETFROM:-0400
TZOFFSETTO:-0500
TZNAME:EST
DTSTART:20251102T060000
END:STANDARD
END:VTIMEZONE
BEGIN:VEVENT
DTSTART;TZID=America/New_York:20251123T120000
DTEND;TZID=America/New_York:20251123T150000
DTSTAMP:20260423T200259
CREATED:20251105T141357Z
LAST-MODIFIED:20251105T141358Z
UID:37508-1763899200-1763910000@apostlesucc.org
SUMMARY:Mocktails & Meaning™: 1946 Documentary Screening
DESCRIPTION:Join Church of the Apostles UCC on Sunday\, November 23rd\, 2025\, at Noon in the Fellowship Hall for a special Mocktails & Meaning™ session featuring a free screening of the powerful documentary 1946: The Mistranslation That Shifted Culture. This thought-provoking film explores how a single mistranslation in the Bible helped spark the anti-gay movement among Christians and features rare archival footage and expert commentary from scholars and pastors. \nFollowing the screening\, stay for a guided discussion & Q&A on the film’s themes of faith\, inclusion\, and understanding. Our featured mocktail will be the refreshing Lemon Drop Mocktail. 🍋 \nWe look forward to sharing this meaningful afternoon with you.
URL:https://apostlesucc.org/event/mocktails-meaning-1946-documentary-screening/
LOCATION:Church of the Apostles UCC\, 1850 Marietta Ave\, Lancaster\, PA\, 17603\, United States
ATTACH;FMTTYPE=image/jpeg:https://apostlesucc.org/wp-content/uploads/2025/11/Mocktails-Meaning-Banner-11.23.25-scaled.jpg
END:VEVENT
END:VCALENDAR