BEGIN:VCALENDAR
VERSION:2.0
PRODID:-//Church of the Apostles UCC - ECPv6.13.2.1//NONSGML v1.0//EN
CALSCALE:GREGORIAN
METHOD:PUBLISH
X-ORIGINAL-URL:https://apostlesucc.org
X-WR-CALDESC:Events for Church of the Apostles UCC
REFRESH-INTERVAL;VALUE=DURATION:PT1H
X-Robots-Tag:noindex
X-PUBLISHED-TTL:PT1H
BEGIN:VTIMEZONE
TZID:America/New_York
BEGIN:DAYLIGHT
TZOFFSETFROM:-0500
TZOFFSETTO:-0400
TZNAME:EDT
DTSTART:20250309T070000
END:DAYLIGHT
BEGIN:STANDARD
TZOFFSETFROM:-0400
TZOFFSETTO:-0500
TZNAME:EST
DTSTART:20251102T060000
END:STANDARD
END:VTIMEZONE
BEGIN:VEVENT
DTSTART;TZID=America/New_York:20251208T110000
DTEND;TZID=America/New_York:20251208T130000
DTSTAMP:20260423T165410
CREATED:20251203T132924Z
LAST-MODIFIED:20251203T132924Z
UID:37652-1765191600-1765198800@apostlesucc.org
SUMMARY:Volunteer Appreciation Drop-In
DESCRIPTION:Volunteers\, we want to celebrate YOU! Whether you helped at an event\, serve on Sundays\, or lead one of our teams or boards\, you make a huge difference at Apostles. Join us for Cookies\, Cocoa & Volunteer Cheer on Monday\, Dec. 8 from 11 AM–1 PM in the church office. Stop in anytime for treats\, warmth\, and our heartfelt thanks!
URL:https://apostlesucc.org/event/volunteer-appreciation-drop-in/
LOCATION:Church of the Apostles UCC\, 1850 Marietta Ave\, Lancaster\, PA\, 17603\, United States
ATTACH;FMTTYPE=image/png:https://apostlesucc.org/wp-content/uploads/2025/12/Cookies-Cocoa-Volunteer-Cheer-Holiday-Drop-In.png
END:VEVENT
BEGIN:VEVENT
DTSTART;TZID=America/New_York:20251208T190000
DTEND;TZID=America/New_York:20251208T200000
DTSTAMP:20260423T165410
CREATED:20250903T133133Z
LAST-MODIFIED:20250903T133133Z
UID:37301-1765220400-1765224000@apostlesucc.org
SUMMARY:Outreach Team Meeting
DESCRIPTION:When: Quarterly on the Second Monday at 7 PM \nWhere: The Parlor \nThe Outreach Team is dedicated to organizing and coordinating offering opportunities throughout the year that support local non-profits and community initiatives. By partnering with various organizations\, we strive to make a positive impact and help meet the needs of those around us. \nWe invite you to join us in these efforts and be a part of making a difference. To view our current collections and learn how you can contribute\, click here. \nTeam Lead: Jane McCartney \nStaff Liaison: Melissa Kosman (Church Administrator)
URL:https://apostlesucc.org/event/outreach-team-meeting/
LOCATION:Church of the Apostles UCC\, 1850 Marietta Ave\, Lancaster\, PA\, 17603\, United States
END:VEVENT
END:VCALENDAR