BEGIN:VCALENDAR
VERSION:2.0
PRODID:-//Church of the Apostles UCC - ECPv6.13.2.1//NONSGML v1.0//EN
CALSCALE:GREGORIAN
METHOD:PUBLISH
X-ORIGINAL-URL:https://apostlesucc.org
X-WR-CALDESC:Events for Church of the Apostles UCC
REFRESH-INTERVAL;VALUE=DURATION:PT1H
X-Robots-Tag:noindex
X-PUBLISHED-TTL:PT1H
BEGIN:VTIMEZONE
TZID:America/New_York
BEGIN:DAYLIGHT
TZOFFSETFROM:-0500
TZOFFSETTO:-0400
TZNAME:EDT
DTSTART:20250309T070000
END:DAYLIGHT
BEGIN:STANDARD
TZOFFSETFROM:-0400
TZOFFSETTO:-0500
TZNAME:EST
DTSTART:20251102T060000
END:STANDARD
END:VTIMEZONE
BEGIN:VEVENT
DTSTART;TZID=America/New_York:20251215T190000
DTEND;TZID=America/New_York:20251215T210000
DTSTAMP:20260423T150225
CREATED:20250625T143240Z
LAST-MODIFIED:20250625T143240Z
UID:37072-1765825200-1765832400@apostlesucc.org
SUMMARY:Board Meeting
DESCRIPTION:
URL:https://apostlesucc.org/event/board-meeting-9/
LOCATION:Church of the Apostles UCC\, 1850 Marietta Ave\, Lancaster\, PA\, 17603\, United States
END:VEVENT
END:VCALENDAR