BEGIN:VCALENDAR
VERSION:2.0
PRODID:-//Church of the Apostles UCC - ECPv6.13.2.1//NONSGML v1.0//EN
CALSCALE:GREGORIAN
METHOD:PUBLISH
X-ORIGINAL-URL:https://apostlesucc.org
X-WR-CALDESC:Events for Church of the Apostles UCC
REFRESH-INTERVAL;VALUE=DURATION:PT1H
X-Robots-Tag:noindex
X-PUBLISHED-TTL:PT1H
BEGIN:VTIMEZONE
TZID:America/New_York
BEGIN:DAYLIGHT
TZOFFSETFROM:-0500
TZOFFSETTO:-0400
TZNAME:EDT
DTSTART:20250309T070000
END:DAYLIGHT
BEGIN:STANDARD
TZOFFSETFROM:-0400
TZOFFSETTO:-0500
TZNAME:EST
DTSTART:20251102T060000
END:STANDARD
END:VTIMEZONE
BEGIN:VEVENT
DTSTART;TZID=America/New_York:20251221T150000
DTEND;TZID=America/New_York:20251221T160000
DTSTAMP:20260423T165413
CREATED:20250709T165856Z
LAST-MODIFIED:20251008T152139Z
UID:37123-1766329200-1766332800@apostlesucc.org
SUMMARY:Christmas Hymn Sing
DESCRIPTION:What better way to spend a Sunday this holiday season than lifting your voice in song? Join Music Director Lars Potteiger and the Apostles Adult Choir for our Christmas Hymn Sing: \n📅 Sunday\, December 21🕒 3:00 PM📍 Sanctuary\, Church of the Apostles UCC \nEveryone is welcome\, no singing experience needed! Come ready to celebrate the season as we sing favorite Christmas hymns and carols together. \nAfter the singing\, our choir will provide light refreshments in the Narthex for a time of social gathering and community connection. \nCome festive\, come joyful\, and come ready to celebrate the season with your neighbors! We hope to see you there!
URL:https://apostlesucc.org/event/christmas-hymn-sing/
LOCATION:Church of the Apostles UCC\, 1850 Marietta Ave\, Lancaster\, PA\, 17603\, United States
ATTACH;FMTTYPE=image/jpeg:https://apostlesucc.org/wp-content/uploads/2025/07/Christmas-Hymn-Sing-Ad-12.21.25.jpg
END:VEVENT
END:VCALENDAR