BEGIN:VCALENDAR
VERSION:2.0
PRODID:-//Church of the Apostles UCC - ECPv6.13.2.1//NONSGML v1.0//EN
CALSCALE:GREGORIAN
METHOD:PUBLISH
X-WR-CALNAME:Church of the Apostles UCC
X-ORIGINAL-URL:https://apostlesucc.org
X-WR-CALDESC:Events for Church of the Apostles UCC
REFRESH-INTERVAL;VALUE=DURATION:PT1H
X-Robots-Tag:noindex
X-PUBLISHED-TTL:PT1H
BEGIN:VTIMEZONE
TZID:America/New_York
BEGIN:DAYLIGHT
TZOFFSETFROM:-0500
TZOFFSETTO:-0400
TZNAME:EDT
DTSTART:20260308T070000
END:DAYLIGHT
BEGIN:STANDARD
TZOFFSETFROM:-0400
TZOFFSETTO:-0500
TZNAME:EST
DTSTART:20261101T060000
END:STANDARD
END:VTIMEZONE
BEGIN:VEVENT
DTSTART;TZID=America/New_York:20260108T100000
DTEND;TZID=America/New_York:20260108T110000
DTSTAMP:20260423T131159
CREATED:20251211T142337Z
LAST-MODIFIED:20251211T142510Z
UID:37675-1767866400-1767870000@apostlesucc.org
SUMMARY:Compassion Team Spiritual Support Group
DESCRIPTION:The Compassion Team invites you to a monthly Spiritual Support Group beginning Thursday\, January 8\, from 10-11 AM in the Compassion Corner (Room 107). \nThis small\, caring group offers a confidential space to share joys and burdens\, reflect with a short devotion\, and pray for one another. All are welcome to find encouragement\, connection\, and rest in God’s presence.
URL:https://apostlesucc.org/event/compassion-team-spiritual-support-group/
LOCATION:Church of the Apostles UCC\, 1850 Marietta Ave\, Lancaster\, PA\, 17603\, United States
ATTACH;FMTTYPE=image/jpeg:https://apostlesucc.org/wp-content/uploads/2025/12/Compassion-Teams-Spiritual-Support-Group-Slide-1.jpg
END:VEVENT
END:VCALENDAR