BEGIN:VCALENDAR
VERSION:2.0
PRODID:-//Church of the Apostles UCC - ECPv6.13.2.1//NONSGML v1.0//EN
CALSCALE:GREGORIAN
METHOD:PUBLISH
X-ORIGINAL-URL:https://apostlesucc.org
X-WR-CALDESC:Events for Church of the Apostles UCC
REFRESH-INTERVAL;VALUE=DURATION:PT1H
X-Robots-Tag:noindex
X-PUBLISHED-TTL:PT1H
BEGIN:VTIMEZONE
TZID:America/New_York
BEGIN:DAYLIGHT
TZOFFSETFROM:-0500
TZOFFSETTO:-0400
TZNAME:EDT
DTSTART:20260308T070000
END:DAYLIGHT
BEGIN:STANDARD
TZOFFSETFROM:-0400
TZOFFSETTO:-0500
TZNAME:EST
DTSTART:20261101T060000
END:STANDARD
END:VTIMEZONE
BEGIN:VEVENT
DTSTART;TZID=America/New_York:20260115T123000
DTEND;TZID=America/New_York:20260115T133000
DTSTAMP:20260423T131419
CREATED:20251211T192710Z
LAST-MODIFIED:20251211T192710Z
UID:37679-1768480200-1768483800@apostlesucc.org
SUMMARY:Finance Committee Meeting
DESCRIPTION:When: Second Thursday of the Month at 12:30 PM \nWhere: The Parlor \nThe Finance Committee supports the congregation by promoting responsible stewardship and providing oversight of the church’s finances. The committee plans and executes year-round stewardship efforts\, including annual campaigns for pledges of time\, talent\, and financial contributions. Additionally\, the committee promotes planned giving opportunities\, such as gifts from estates\, wills\, trusts\, annuities\, insurance policies\, and outright donations of money\, securities\, or property.
URL:https://apostlesucc.org/event/finance-committee-meeting-10/
LOCATION:Church of the Apostles UCC\, 1850 Marietta Ave\, Lancaster\, PA\, 17603\, United States
END:VEVENT
BEGIN:VEVENT
DTSTART;TZID=America/New_York:20260115T183000
DTEND;TZID=America/New_York:20260115T200000
DTSTAMP:20260423T131419
CREATED:20251013T155949Z
LAST-MODIFIED:20251013T155949Z
UID:37427-1768501800-1768507200@apostlesucc.org
SUMMARY:Mocktails & Meaning™: Changes in the Academic World
DESCRIPTION:Join us on Thursday\, January 15th at 6:30 PM in the Main Lobby for our first 2026 Mocktails & Meaning™ session. Recently retired Millersville Professor\, Dr. Jill Craven\, will share her insights on how academia has evolved during her tenure\, including shifts in social norms\, policies\, student life\, and the impact of technologies like ChatGPT. \nEnjoy meaningful conversation alongside our featured mocktail: Cherry Shirley Temple
URL:https://apostlesucc.org/event/mocktails-meaning-changes-in-the-academic-world/
LOCATION:Church of the Apostles UCC\, 1850 Marietta Ave\, Lancaster\, PA\, 17603\, United States
ATTACH;FMTTYPE=image/jpeg:https://apostlesucc.org/wp-content/uploads/2025/10/Mocktails-Meaning-Flyer-Banner-Landscape-scaled.jpg
END:VEVENT
END:VCALENDAR