BEGIN:VCALENDAR
VERSION:2.0
PRODID:-//Church of the Apostles UCC - ECPv6.13.2.1//NONSGML v1.0//EN
CALSCALE:GREGORIAN
METHOD:PUBLISH
X-ORIGINAL-URL:https://apostlesucc.org
X-WR-CALDESC:Events for Church of the Apostles UCC
REFRESH-INTERVAL;VALUE=DURATION:PT1H
X-Robots-Tag:noindex
X-PUBLISHED-TTL:PT1H
BEGIN:VTIMEZONE
TZID:America/New_York
BEGIN:DAYLIGHT
TZOFFSETFROM:-0500
TZOFFSETTO:-0400
TZNAME:EDT
DTSTART:20260308T070000
END:DAYLIGHT
BEGIN:STANDARD
TZOFFSETFROM:-0400
TZOFFSETTO:-0500
TZNAME:EST
DTSTART:20261101T060000
END:STANDARD
END:VTIMEZONE
BEGIN:VEVENT
DTSTART;TZID=America/New_York:20260125T150000
DTEND;TZID=America/New_York:20260125T170000
DTSTAMP:20260423T131406
CREATED:20250730T163226Z
LAST-MODIFIED:20260126T170740Z
UID:37172-1769353200-1769360400@apostlesucc.org
SUMMARY:Apostles Academy Concerts: The Magic Flute
DESCRIPTION:You’re invited to a special afternoon of opera as Berks Opera\, in partnership with Albright College\, presents Mozart’s The Magic Flute on Sunday\, January 25\, 2026 at 3 PM in the Sanctuary at Church of the Apostles UCC\, 1850 Marietta Ave\, Lancaster\, PA. \nThis enchanting production combines powerful music\, imaginative storytelling\, and professional vocal talent in a performance that will move and entertain audiences of all ages. \n🎟 Free to attend! A free-will offering will be taken in lieu of tickets.♿ Our building is fully accessible\, with plenty of handicap parking available. \nAll are welcome to experience the magic of opera in a warm\, welcoming space!
URL:https://apostlesucc.org/event/apostles-academy-concerts-the-magic-flute/
LOCATION:Church of the Apostles UCC\, 1850 Marietta Ave\, Lancaster\, PA\, 17603\, United States
ATTACH;FMTTYPE=image/jpeg:https://apostlesucc.org/wp-content/uploads/2025/07/The-Magic-Flute-1.25.25.jpg
END:VEVENT
END:VCALENDAR