BEGIN:VCALENDAR
VERSION:2.0
PRODID:-//Church of the Apostles UCC - ECPv6.13.2.1//NONSGML v1.0//EN
CALSCALE:GREGORIAN
METHOD:PUBLISH
X-WR-CALNAME:Church of the Apostles UCC
X-ORIGINAL-URL:https://apostlesucc.org
X-WR-CALDESC:Events for Church of the Apostles UCC
REFRESH-INTERVAL;VALUE=DURATION:PT1H
X-Robots-Tag:noindex
X-PUBLISHED-TTL:PT1H
BEGIN:VTIMEZONE
TZID:America/New_York
BEGIN:DAYLIGHT
TZOFFSETFROM:-0500
TZOFFSETTO:-0400
TZNAME:EDT
DTSTART:20260308T070000
END:DAYLIGHT
BEGIN:STANDARD
TZOFFSETFROM:-0400
TZOFFSETTO:-0500
TZNAME:EST
DTSTART:20261101T060000
END:STANDARD
END:VTIMEZONE
BEGIN:VEVENT
DTSTART;TZID=America/New_York:20260416T183000
DTEND;TZID=America/New_York:20260416T200000
DTSTAMP:20260423T053525
CREATED:20260212T161932Z
LAST-MODIFIED:20260212T161932Z
UID:37921-1776364200-1776369600@apostlesucc.org
SUMMARY:Mocktails & Meaning™: Mental Health in Young Men
DESCRIPTION:April’s Mocktails & Meaning™ invites you into an honest and important conversation with Ben Faro from the Samaritan Center as we focus on Mental Health in Young Men. In a world that often teaches boys to stay silent about their struggles\, this session will explore the pressures young men face\, the warning signs we should not ignore\, and the ways families\, churches\, and communities can foster openness\, resilience\, and hope. We’ll gather over a festive Easter Punch mocktail while creating space for thoughtful dialogue and meaningful questions. Come ready for a conversation that encourages courage\, compassion\, and connection. \nRegister Now By Clicking Here
URL:https://apostlesucc.org/event/mocktails-meaning-mental-health-in-young-men/
LOCATION:Church of the Apostles UCC\, 1850 Marietta Ave\, Lancaster\, PA\, 17603\, United States
ATTACH;FMTTYPE=image/jpeg:https://apostlesucc.org/wp-content/uploads/2026/02/Mocktails-Meaning-Flyer-Banner-Landscape-3-scaled.jpg
END:VEVENT
END:VCALENDAR