BEGIN:VCALENDAR
VERSION:2.0
PRODID:-//Church of the Apostles UCC - ECPv6.13.2.1//NONSGML v1.0//EN
CALSCALE:GREGORIAN
METHOD:PUBLISH
X-ORIGINAL-URL:https://apostlesucc.org
X-WR-CALDESC:Events for Church of the Apostles UCC
REFRESH-INTERVAL;VALUE=DURATION:PT1H
X-Robots-Tag:noindex
X-PUBLISHED-TTL:PT1H
BEGIN:VTIMEZONE
TZID:America/New_York
BEGIN:DAYLIGHT
TZOFFSETFROM:-0500
TZOFFSETTO:-0400
TZNAME:EDT
DTSTART:20260308T070000
END:DAYLIGHT
BEGIN:STANDARD
TZOFFSETFROM:-0400
TZOFFSETTO:-0500
TZNAME:EST
DTSTART:20261101T060000
END:STANDARD
END:VTIMEZONE
BEGIN:VEVENT
DTSTART;TZID=America/New_York:20260518T100000
DTEND;TZID=America/New_York:20260518T110000
DTSTAMP:20260423T100914
CREATED:20260421T140205Z
LAST-MODIFIED:20260421T140205Z
UID:38197-1779098400-1779102000@apostlesucc.org
SUMMARY:Asking the Hard Questions
DESCRIPTION:This meaningful series\, begun by our seminary intern Deklan Lewis\, will continue in May with Rev. Kuhn leading. Each session will include a short video clip followed by thoughtful discussion. To prepare\, participants are encouraged to see Project Hail Mary\, now in theatres. Join the conversation on Monday\, May 18 at 10 AM or Thursday\, May 28 at 6 PM in the Parlor. \n 
URL:https://apostlesucc.org/event/asking-the-hard-questions-9/
LOCATION:Church of the Apostles UCC\, 1850 Marietta Ave\, Lancaster\, PA\, 17603\, United States
ATTACH;FMTTYPE=image/jpeg:https://apostlesucc.org/wp-content/uploads/2025/12/Asking-the-Hard-Questions-with-Deklan-Lewis.jpg
END:VEVENT
BEGIN:VEVENT
DTSTART;TZID=America/New_York:20260518T190000
DTEND;TZID=America/New_York:20260518T200000
DTSTAMP:20260423T100914
CREATED:20260421T135944Z
LAST-MODIFIED:20260421T135944Z
UID:38193-1779130800-1779134400@apostlesucc.org
SUMMARY:Board Meeting
DESCRIPTION:
URL:https://apostlesucc.org/event/board-meeting-13/
LOCATION:Church of the Apostles UCC\, 1850 Marietta Ave\, Lancaster\, PA\, 17603\, United States
END:VEVENT
END:VCALENDAR