BEGIN:VCALENDAR
VERSION:2.0
PRODID:-//Church of the Apostles UCC - ECPv6.13.2.1//NONSGML v1.0//EN
CALSCALE:GREGORIAN
METHOD:PUBLISH
X-WR-CALNAME:Church of the Apostles UCC
X-ORIGINAL-URL:https://apostlesucc.org
X-WR-CALDESC:Events for Church of the Apostles UCC
REFRESH-INTERVAL;VALUE=DURATION:PT1H
X-Robots-Tag:noindex
X-PUBLISHED-TTL:PT1H
BEGIN:VTIMEZONE
TZID:America/New_York
BEGIN:DAYLIGHT
TZOFFSETFROM:-0500
TZOFFSETTO:-0400
TZNAME:EDT
DTSTART:20260308T070000
END:DAYLIGHT
BEGIN:STANDARD
TZOFFSETFROM:-0400
TZOFFSETTO:-0500
TZNAME:EST
DTSTART:20261101T060000
END:STANDARD
END:VTIMEZONE
BEGIN:VEVENT
DTSTART;TZID=America/New_York:20260426T170000
DTEND;TZID=America/New_York:20260426T180000
DTSTAMP:20260422T231641
CREATED:20260303T192042Z
LAST-MODIFIED:20260303T192042Z
UID:38017-1777222800-1777226400@apostlesucc.org
SUMMARY:Prayer Vigil for Peace & Healing
DESCRIPTION:A time for expressing hope and praying for peace and healing for our country.
URL:https://apostlesucc.org/event/prayer-vigil-for-peace-healing/
LOCATION:Church of the Apostles UCC\, 1850 Marietta Ave\, Lancaster\, PA\, 17603\, United States
ATTACH;FMTTYPE=image/jpeg:https://apostlesucc.org/wp-content/uploads/2026/03/Prayer-Vigil-for-Peace-Healing-42626.jpg
END:VEVENT
BEGIN:VEVENT
DTSTART;TZID=America/New_York:20260427T100000
DTEND;TZID=America/New_York:20260427T110000
DTSTAMP:20260422T231641
CREATED:20260106T184313Z
LAST-MODIFIED:20260106T184313Z
UID:37781-1777284000-1777287600@apostlesucc.org
SUMMARY:Asking the Hard Questions
DESCRIPTION:At Church of the Apostles\, we know many are carrying deep and honest questions about faith\, especially in light of what is happening in our country and throughout the world. Questions like “Where is God in all of this?” are not signs of weak faith\, but part of a faithful journey we are called to walk together. \nTo create space for these conversations\, we invite you to a new monthly series\, Asking the Hard Questions\, hosted by our seminary intern\, Deklan Lewis\, in the Parlor. Together\, we will explore doubt\, struggle\, and belief as meaningful parts of discipleship. Our first two gatherings will include viewing and discussing the film God on Trial as we wrestle\, much like Jacob\, with faith and what it means to follow Jesus today. \nTo accommodate different schedules\, two sessions will be offered each month: Monday morning\, April 27th at 10 AM\, and Thursday evening\, April 30th at 6 PM. All are welcome to join this thoughtful\, open\, and supportive conversation.
URL:https://apostlesucc.org/event/asking-the-hard-questions-7/
LOCATION:Church of the Apostles UCC\, 1850 Marietta Ave\, Lancaster\, PA\, 17603\, United States
ATTACH;FMTTYPE=image/jpeg:https://apostlesucc.org/wp-content/uploads/2025/12/Asking-the-Hard-Questions-with-Deklan-Lewis.jpg
END:VEVENT
BEGIN:VEVENT
DTSTART;TZID=America/New_York:20260430T180000
DTEND;TZID=America/New_York:20260430T190000
DTSTAMP:20260422T231641
CREATED:20260106T184354Z
LAST-MODIFIED:20260421T135757Z
UID:37783-1777572000-1777575600@apostlesucc.org
SUMMARY:Asking the Hard Questions
DESCRIPTION:At Church of the Apostles\, we know many are carrying deep and honest questions about faith\, especially in light of what is happening in our country and throughout the world. Questions like “Where is God in all of this?” are not signs of weak faith\, but part of a faithful journey we are called to walk together. \nTo create space for these conversations\, we invite you to a new monthly series\, Asking the Hard Questions\, hosted by our seminary intern\, Deklan Lewis\, in the Parlor. Together\, we will explore doubt\, struggle\, and belief as meaningful parts of discipleship. Our first two gatherings will include viewing and discussing the film God on Trial as we wrestle\, much like Jacob\, with faith and what it means to follow Jesus today. \nTo accommodate different schedules\, two sessions will be offered each month: Monday morning\, April 27th at 10 AM\, and Thursday evening\, April 30th at 6 PM. All are welcome to join this thoughtful\, open\, and supportive conversation.
URL:https://apostlesucc.org/event/asking-the-hard-questions-8/
LOCATION:Church of the Apostles UCC\, 1850 Marietta Ave\, Lancaster\, PA\, 17603\, United States
ATTACH;FMTTYPE=image/jpeg:https://apostlesucc.org/wp-content/uploads/2025/12/Asking-the-Hard-Questions-with-Deklan-Lewis.jpg
END:VEVENT
BEGIN:VEVENT
DTSTART;TZID=America/New_York:20260430T180000
DTEND;TZID=America/New_York:20260430T200000
DTSTAMP:20260422T231641
CREATED:20260421T135731Z
LAST-MODIFIED:20260422T155257Z
UID:38190-1777572000-1777579200@apostlesucc.org
SUMMARY:Education Justice Gathering
DESCRIPTION:As we work toward a more fair and equitable world\, you’re invited to join a community conversation on education funding and justice in Pennsylvania—issues that deeply impact equity for students and families. \n📅 Thursday\, April 30 at 6 PM📍 Church of the Apostles \nHosted by the Education Justice Team\, this gathering will explore current challenges in school funding and how we can respond together with faith and action. Snacks provided. \nAll are welcome as we seek compassionate justice in our community. 💛
URL:https://apostlesucc.org/event/education-justice-gathering/
LOCATION:Church of the Apostles UCC\, 1850 Marietta Ave\, Lancaster\, PA\, 17603\, United States
ATTACH;FMTTYPE=image/png:https://apostlesucc.org/wp-content/uploads/2026/04/Fair-Funding-Strategy-_2_.png
END:VEVENT
BEGIN:VEVENT
DTSTART;TZID=America/New_York:20260502T143000
DTEND;TZID=America/New_York:20260502T170000
DTSTAMP:20260422T231641
CREATED:20260311T140017Z
LAST-MODIFIED:20260402T130602Z
UID:38055-1777732200-1777741200@apostlesucc.org
SUMMARY:Mocktails & Meaning™: "The Librarians" Documentary Screening
DESCRIPTION:Make plans for a special Mocktails & Meaning™ gathering on Saturday\, May 2nd at 2:30 PM in the Sanctuary as we host a screening of the documentary The Librarians. \nThis powerful film follows librarians across the United States who find themselves on the front lines of debates about censorship\, intellectual freedom\, and access to information. Through their stories\, the documentary explores what it means to defend the freedom to read in a time when books\, ideas\, and education are increasingly challenged in schools and communities. \nFollowing the screening\, we will hold a Q&A and open discussion\, creating space to reflect on the themes of the film and share thoughts together as a community. All are welcome for this thoughtful afternoon of film\, conversation\, and connection. \nRegister Now By Clicking Here
URL:https://apostlesucc.org/event/mocktails-meaning-the-librarians-documentary-screening/
LOCATION:Church of the Apostles UCC\, 1850 Marietta Ave\, Lancaster\, PA\, 17603\, United States
ATTACH;FMTTYPE=image/jpeg:https://apostlesucc.org/wp-content/uploads/2026/03/Mocktails-Meaning-Flyer-Banner-Landscape-scaled.jpg
END:VEVENT
BEGIN:VEVENT
DTSTART;TZID=America/New_York:20260509T180000
DTEND;TZID=America/New_York:20260509T200000
DTSTAMP:20260422T231641
CREATED:20260421T140730Z
LAST-MODIFIED:20260421T140730Z
UID:38205-1778349600-1778356800@apostlesucc.org
SUMMARY:Community Game Night
DESCRIPTION:Join us on Saturday\, May 9th\, for games\, snacks\, and fun in the Main Lobby. Bring your favorite games and invite your friends and family\, everyone is welcome!
URL:https://apostlesucc.org/event/community-game-night-11/
LOCATION:Church of the Apostles UCC\, 1850 Marietta Ave\, Lancaster\, PA\, 17603\, United States
ATTACH;FMTTYPE=image/png:https://apostlesucc.org/wp-content/uploads/2026/01/COA-Game-Night-FB-PostFlyer.png
END:VEVENT
BEGIN:VEVENT
DTSTART;TZID=America/New_York:20260512T140000
DTEND;TZID=America/New_York:20260512T150000
DTSTAMP:20260422T231641
CREATED:20260211T131707Z
LAST-MODIFIED:20260312T142110Z
UID:37913-1778594400-1778598000@apostlesucc.org
SUMMARY:Book Club
DESCRIPTION:Book Club meets on the 2nd Tuesday of each month at 2 PM in the Narthex\, and we’d love for you to join us! Whether you’ve read the book or not\, you’re welcome to come for engaging discussions and fellowship. \nMay 12th\, 2026: Year of Wonders by Geraldine Brooks
URL:https://apostlesucc.org/event/book-club-11/
LOCATION:Church of the Apostles UCC\, 1850 Marietta Ave\, Lancaster\, PA\, 17603\, United States
END:VEVENT
BEGIN:VEVENT
DTSTART;TZID=America/New_York:20260514T100000
DTEND;TZID=America/New_York:20260514T110000
DTSTAMP:20260422T231641
CREATED:20260421T140418Z
LAST-MODIFIED:20260421T140418Z
UID:38201-1778752800-1778756400@apostlesucc.org
SUMMARY:Compassion Team Spiritual Support Group
DESCRIPTION:The Compassion Team invites you to a monthly Spiritual Support Group on Second Thursdays\, from 10-11 AM in the Compassion Corner (Room 107). \nThis small\, caring group offers a confidential space to share joys and burdens\, reflect with a short devotion\, and pray for one another. All are welcome to find encouragement\, connection\, and rest in God’s presence.
URL:https://apostlesucc.org/event/compassion-team-spiritual-support-group-5/
LOCATION:Church of the Apostles UCC\, 1850 Marietta Ave\, Lancaster\, PA\, 17603\, United States
ATTACH;FMTTYPE=image/jpeg:https://apostlesucc.org/wp-content/uploads/2025/12/Compassion-Teams-Spiritual-Support-Group-Slide-1.jpg
END:VEVENT
BEGIN:VEVENT
DTSTART;TZID=America/New_York:20260514T123000
DTEND;TZID=America/New_York:20260514T133000
DTSTAMP:20260422T231641
CREATED:20260421T140959Z
LAST-MODIFIED:20260421T140959Z
UID:38207-1778761800-1778765400@apostlesucc.org
SUMMARY:Finance Committee Meeting
DESCRIPTION:When: Second Thursday of the Month at 12:30 PM \nWhere: Compassion Corner (Rm 107) \nThe Finance Committee supports the congregation by promoting responsible stewardship and providing oversight of the church’s finances. The committee plans and executes year-round stewardship efforts\, including annual campaigns for pledges of time\, talent\, and financial contributions. Additionally\, the committee promotes planned giving opportunities\, such as gifts from estates\, wills\, trusts\, annuities\, insurance policies\, and outright donations of money\, securities\, or property.
URL:https://apostlesucc.org/event/finance-committee-meeting-14/
LOCATION:Church of the Apostles UCC\, 1850 Marietta Ave\, Lancaster\, PA\, 17603\, United States
END:VEVENT
BEGIN:VEVENT
DTSTART;TZID=America/New_York:20260517T150000
DTEND;TZID=America/New_York:20260517T160000
DTSTAMP:20260422T231641
CREATED:20260421T172534Z
LAST-MODIFIED:20260421T172534Z
UID:38213-1779030000-1779033600@apostlesucc.org
SUMMARY:Hymn Sing with Lars Potteiger
DESCRIPTION:Join Music Director Lars Potteiger on Sunday\, May 17th\, at 3 PM in the Sanctuary for a beautiful afternoon of hymns! All are welcome to come together and raise our voices in song.  This is a free event\, and we can’t wait to celebrate the joy of music with you!
URL:https://apostlesucc.org/event/hymn-sing-with-lars-potteiger-2/
LOCATION:Church of the Apostles UCC\, 1850 Marietta Ave\, Lancaster\, PA\, 17603\, United States
ATTACH;FMTTYPE=image/jpeg:https://apostlesucc.org/wp-content/uploads/2026/04/May-2026-Hymn-Sing-FB-Post.jpg
END:VEVENT
BEGIN:VEVENT
DTSTART;TZID=America/New_York:20260518T100000
DTEND;TZID=America/New_York:20260518T110000
DTSTAMP:20260422T231641
CREATED:20260421T140205Z
LAST-MODIFIED:20260421T140205Z
UID:38197-1779098400-1779102000@apostlesucc.org
SUMMARY:Asking the Hard Questions
DESCRIPTION:This meaningful series\, begun by our seminary intern Deklan Lewis\, will continue in May with Rev. Kuhn leading. Each session will include a short video clip followed by thoughtful discussion. To prepare\, participants are encouraged to see Project Hail Mary\, now in theatres. Join the conversation on Monday\, May 18 at 10 AM or Thursday\, May 28 at 6 PM in the Parlor. \n 
URL:https://apostlesucc.org/event/asking-the-hard-questions-9/
LOCATION:Church of the Apostles UCC\, 1850 Marietta Ave\, Lancaster\, PA\, 17603\, United States
ATTACH;FMTTYPE=image/jpeg:https://apostlesucc.org/wp-content/uploads/2025/12/Asking-the-Hard-Questions-with-Deklan-Lewis.jpg
END:VEVENT
BEGIN:VEVENT
DTSTART;TZID=America/New_York:20260518T190000
DTEND;TZID=America/New_York:20260518T200000
DTSTAMP:20260422T231641
CREATED:20260421T135944Z
LAST-MODIFIED:20260421T135944Z
UID:38193-1779130800-1779134400@apostlesucc.org
SUMMARY:Board Meeting
DESCRIPTION:
URL:https://apostlesucc.org/event/board-meeting-13/
LOCATION:Church of the Apostles UCC\, 1850 Marietta Ave\, Lancaster\, PA\, 17603\, United States
END:VEVENT
BEGIN:VEVENT
DTSTART;TZID=America/New_York:20260521T183000
DTEND;TZID=America/New_York:20260521T200000
DTSTAMP:20260422T231641
CREATED:20260127T165548Z
LAST-MODIFIED:20260212T163704Z
UID:37833-1779388200-1779393600@apostlesucc.org
SUMMARY:Mocktails & Meaning™: Behind the Scenes of Human Trafficking
DESCRIPTION:Join us for our May 21\, 2026 Mocktails & Meaning™ gathering for a powerful and eye-opening conversation led by Brad Ortenzi\, Eastern USA Regional Director of ZOE International and Coordinator of the Berks and Lancaster County Human Trafficking Task Forces. Drawing on his experience as a former Ephrata Police Detective\, his work with federal and county child exploitation task forces\, and his international work combating trafficking in Thailand\, Brad will take us behind the scenes of human trafficking in Lancaster County. This session will explore how traffickers recruit and control victims\, the psychological realities of trauma bonding\, and how local task forces respond through both enforcement and prevention. Time will be set aside for questions and dialogue. We’ll be serving a Mai Tai Mocktail as we engage this important and impactful conversation. \nRegister By Clicking Here
URL:https://apostlesucc.org/event/mocktails-meaning-behind-the-scenes-of-human-trafficking/
LOCATION:Church of the Apostles UCC\, 1850 Marietta Ave\, Lancaster\, PA\, 17603\, United States
ATTACH;FMTTYPE=image/jpeg:https://apostlesucc.org/wp-content/uploads/2026/01/Mocktails-Meaning-Flyer-Banner-Landscape-scaled.jpg
END:VEVENT
BEGIN:VEVENT
DTSTART;VALUE=DATE:20260525
DTEND;VALUE=DATE:20260526
DTSTAMP:20260422T231641
CREATED:20260305T164717Z
LAST-MODIFIED:20260305T164727Z
UID:38032-1779667200-1779753599@apostlesucc.org
SUMMARY:Office Closed
DESCRIPTION:
URL:https://apostlesucc.org/event/office-closed-9/
LOCATION:PA
END:VEVENT
BEGIN:VEVENT
DTSTART;TZID=America/New_York:20260528T180000
DTEND;TZID=America/New_York:20260528T190000
DTSTAMP:20260422T231641
CREATED:20260421T140247Z
LAST-MODIFIED:20260421T140247Z
UID:38199-1779991200-1779994800@apostlesucc.org
SUMMARY:Asking the Hard Questions
DESCRIPTION:This meaningful series\, begun by our seminary intern Deklan Lewis\, will continue in May with Rev. Kuhn leading. Each session will include a short video clip followed by thoughtful discussion. To prepare\, participants are encouraged to see Project Hail Mary\, now in theatres. Join the conversation on Monday\, May 18 at 10 AM or Thursday\, May 28 at 6 PM in the Parlor. \n 
URL:https://apostlesucc.org/event/asking-the-hard-questions-10/
LOCATION:Church of the Apostles UCC\, 1850 Marietta Ave\, Lancaster\, PA\, 17603\, United States
ATTACH;FMTTYPE=image/jpeg:https://apostlesucc.org/wp-content/uploads/2025/12/Asking-the-Hard-Questions-with-Deklan-Lewis.jpg
END:VEVENT
BEGIN:VEVENT
DTSTART;TZID=America/New_York:20260609T140000
DTEND;TZID=America/New_York:20260609T150000
DTSTAMP:20260422T231641
CREATED:20260415T132445Z
LAST-MODIFIED:20260415T132631Z
UID:38154-1781013600-1781017200@apostlesucc.org
SUMMARY:Book Club
DESCRIPTION:Book Club meets on the 2nd Tuesday of each month at 2 PM in the Narthex\, and we’d love for you to join us! Whether you’ve read the book or not\, you’re welcome to come for engaging discussions and fellowship. \nJune 9th\, 2026: A Murder in Paradise by Richard Gehman
URL:https://apostlesucc.org/event/book-club-12/
LOCATION:Church of the Apostles UCC\, 1850 Marietta Ave\, Lancaster\, PA\, 17603\, United States
END:VEVENT
BEGIN:VEVENT
DTSTART;TZID=America/New_York:20260611T100000
DTEND;TZID=America/New_York:20260611T110000
DTSTAMP:20260422T231641
CREATED:20260421T140505Z
LAST-MODIFIED:20260421T140505Z
UID:38203-1781172000-1781175600@apostlesucc.org
SUMMARY:Compassion Team Spiritual Support Group
DESCRIPTION:The Compassion Team invites you to a monthly Spiritual Support Group on Second Thursdays\, from 10-11 AM in the Compassion Corner (Room 107). \nThis small\, caring group offers a confidential space to share joys and burdens\, reflect with a short devotion\, and pray for one another. All are welcome to find encouragement\, connection\, and rest in God’s presence.
URL:https://apostlesucc.org/event/compassion-team-spiritual-support-group-6/
LOCATION:Church of the Apostles UCC\, 1850 Marietta Ave\, Lancaster\, PA\, 17603\, United States
ATTACH;FMTTYPE=image/jpeg:https://apostlesucc.org/wp-content/uploads/2025/12/Compassion-Teams-Spiritual-Support-Group-Slide-1.jpg
END:VEVENT
BEGIN:VEVENT
DTSTART;TZID=America/New_York:20260611T123000
DTEND;TZID=America/New_York:20260611T133000
DTSTAMP:20260422T231641
CREATED:20260421T141032Z
LAST-MODIFIED:20260421T141032Z
UID:38209-1781181000-1781184600@apostlesucc.org
SUMMARY:Finance Committee Meeting
DESCRIPTION:When: Second Thursday of the Month at 12:30 PM \nWhere: Compassion Corner (Rm 107) \nThe Finance Committee supports the congregation by promoting responsible stewardship and providing oversight of the church’s finances. The committee plans and executes year-round stewardship efforts\, including annual campaigns for pledges of time\, talent\, and financial contributions. Additionally\, the committee promotes planned giving opportunities\, such as gifts from estates\, wills\, trusts\, annuities\, insurance policies\, and outright donations of money\, securities\, or property.
URL:https://apostlesucc.org/event/finance-committee-meeting-15/
LOCATION:Church of the Apostles UCC\, 1850 Marietta Ave\, Lancaster\, PA\, 17603\, United States
END:VEVENT
BEGIN:VEVENT
DTSTART;TZID=America/New_York:20260615T190000
DTEND;TZID=America/New_York:20260615T200000
DTSTAMP:20260422T231641
CREATED:20260421T140011Z
LAST-MODIFIED:20260421T140011Z
UID:38195-1781550000-1781553600@apostlesucc.org
SUMMARY:Board Meeting
DESCRIPTION:
URL:https://apostlesucc.org/event/board-meeting-14/
LOCATION:Church of the Apostles UCC\, 1850 Marietta Ave\, Lancaster\, PA\, 17603\, United States
END:VEVENT
BEGIN:VEVENT
DTSTART;TZID=America/New_York:20260616T100000
DTEND;TZID=America/New_York:20260616T113000
DTSTAMP:20260422T231641
CREATED:20260318T130522Z
LAST-MODIFIED:20260318T130539Z
UID:38076-1781604000-1781609400@apostlesucc.org
SUMMARY:Terrific Tuesdays: Week 1
DESCRIPTION:Splash into Terrific Tuesdays in Rader Park\, a four-week summer program for children ages 3-10 full of stories\, crafts\, and hands-on fun as we learn all about water. \nProgram Schedule (10:00–11:30 AM):June 16June 23June 30July 7 – Special Presentation by Lisa Sanchez\, Lancaster Parks Naturalist \nEach session will take place in beautiful Rader Park\, and snacks will be provided. Please note that a guardian must remain with their child throughout the program. \nRegistration is now open\, Click Here to Register!
URL:https://apostlesucc.org/event/terrific-tuesdays-week-1/
LOCATION:Rader Park\, 1899 Apostles Way\, Lancaster\, PA\, 17603\, United States
ATTACH;FMTTYPE=image/jpeg:https://apostlesucc.org/wp-content/uploads/2026/03/Terrific-Tuesdays-2026-Flyer.jpg
END:VEVENT
BEGIN:VEVENT
DTSTART;TZID=America/New_York:20260618T183000
DTEND;TZID=America/New_York:20260618T200000
DTSTAMP:20260422T231641
CREATED:20260416T122401Z
LAST-MODIFIED:20260416T122401Z
UID:38173-1781807400-1781812800@apostlesucc.org
SUMMARY:Mocktails & Meaning™: Racial Equity Demographics in Lancaster County
DESCRIPTION:Step into an evening of learning and reflection at our June Mocktails & Meaning™ session on June 18th at 6:30 PM\, featuring the YWCA of Lancaster and a focused look at Racial Equity Demographics of Lancaster County. This conversation will explore the data behind our community—highlighting disparities\, trends\, and opportunities for growth—while inviting us to consider how we can be more informed\, engaged\, and equity-minded neighbors. Sip on a refreshing Grapefruit Paloma mocktail 🍊🍹 as we engage in meaningful dialogue and deepen our understanding together. Please note that due to ongoing renovations\, seating is limited\, so we encourage you to register early. Mocktails & Meaning™ will pause for the summer after this session and return in the fall. \nRegister Now by Clicking Here
URL:https://apostlesucc.org/event/mocktails-meaning-racial-equity-demographics-in-lancaster-county/
LOCATION:Church of the Apostles UCC\, 1850 Marietta Ave\, Lancaster\, PA\, 17603\, United States
ATTACH;FMTTYPE=image/jpeg:https://apostlesucc.org/wp-content/uploads/2026/04/Mocktails-Meaning-Flyer-Banner-Landscape-scaled.jpg
END:VEVENT
BEGIN:VEVENT
DTSTART;TZID=America/New_York:20260620T120000
DTEND;TZID=America/New_York:20260620T180000
DTSTAMP:20260422T231641
CREATED:20260325T130929Z
LAST-MODIFIED:20260325T131123Z
UID:38103-1781956800-1781978400@apostlesucc.org
SUMMARY:Lancaster Pride Festival
DESCRIPTION:Join Church of the Apostles at the Lancaster Pride Fest 2026. More Info to come.
URL:https://apostlesucc.org/event/lancaster-pride-festival/
LOCATION:Penn Medicine Park\, 650 North Prince St\, Lancaster\, PA\, 17603\, United States
ATTACH;FMTTYPE=image/jpeg:https://apostlesucc.org/wp-content/uploads/2026/03/PrideFestivalSavetheDate2026.jpg
END:VEVENT
BEGIN:VEVENT
DTSTART;TZID=America/New_York:20260623T100000
DTEND;TZID=America/New_York:20260623T113000
DTSTAMP:20260422T231641
CREATED:20260318T130654Z
LAST-MODIFIED:20260318T130654Z
UID:38079-1782208800-1782214200@apostlesucc.org
SUMMARY:Terrific Tuesdays: Week 2
DESCRIPTION:Splash into Terrific Tuesdays in Rader Park\, a four-week summer program for children ages 3-10 full of stories\, crafts\, and hands-on fun as we learn all about water. \nProgram Schedule (10–11:30 AM):June 16June 23June 30July 7 – Special Presentation by Lisa Sanchez\, Lancaster Parks Naturalist \nEach session will take place in beautiful Rader Park\, and snacks will be provided. Please note that a guardian must remain with their child throughout the program. \nRegistration is now open\, Click Here to Register!
URL:https://apostlesucc.org/event/terrific-tuesdays-week-2/
LOCATION:Rader Park\, 1899 Apostles Way\, Lancaster\, PA\, 17603\, United States
ATTACH;FMTTYPE=image/jpeg:https://apostlesucc.org/wp-content/uploads/2026/03/Terrific-Tuesdays-2026-Flyer.jpg
END:VEVENT
BEGIN:VEVENT
DTSTART;TZID=America/New_York:20260630T100000
DTEND;TZID=America/New_York:20260630T113000
DTSTAMP:20260422T231641
CREATED:20260318T130753Z
LAST-MODIFIED:20260318T130753Z
UID:38081-1782813600-1782819000@apostlesucc.org
SUMMARY:Terrific Tuesdays: Week 3
DESCRIPTION:Splash into Terrific Tuesdays in Rader Park\, a four-week summer program for children ages 3-10 full of stories\, crafts\, and hands-on fun as we learn all about water. \nProgram Schedule (10:00–11:30 AM):June 16June 23June 30July 7 – Special Presentation by Lisa Sanchez\, Lancaster Parks Naturalist \nEach session will take place in beautiful Rader Park\, and snacks will be provided. Please note that a guardian must remain with their child throughout the program. \nRegistration is now open\, Click Here to Register!
URL:https://apostlesucc.org/event/terrific-tuesdays-week-3/
LOCATION:Rader Park\, 1899 Apostles Way\, Lancaster\, PA\, 17603\, United States
ATTACH;FMTTYPE=image/jpeg:https://apostlesucc.org/wp-content/uploads/2026/03/Terrific-Tuesdays-2026-Flyer.jpg
END:VEVENT
BEGIN:VEVENT
DTSTART;VALUE=DATE:20260706
DTEND;VALUE=DATE:20260707
DTSTAMP:20260422T231641
CREATED:20260325T130401Z
LAST-MODIFIED:20260325T130401Z
UID:38100-1783296000-1783382399@apostlesucc.org
SUMMARY:Office Closed
DESCRIPTION:
URL:https://apostlesucc.org/event/office-closed-10/
LOCATION:PA
END:VEVENT
BEGIN:VEVENT
DTSTART;TZID=America/New_York:20260707T100000
DTEND;TZID=America/New_York:20260707T113000
DTSTAMP:20260422T231641
CREATED:20260318T130951Z
LAST-MODIFIED:20260318T130951Z
UID:38083-1783418400-1783423800@apostlesucc.org
SUMMARY:Terrific Tuesdays: Week 4
DESCRIPTION:Splash into Terrific Tuesdays in Rader Park\, a four-week summer program for children ages 3-10 full of stories\, crafts\, and hands-on fun as we learn all about water. \nProgram Schedule (10:00–11:30 AM):June 16June 23June 30July 7 – Special Presentation by Lisa Sanchez\, Lancaster Parks Naturalist \nEach session will take place in beautiful Rader Park\, and snacks will be provided. Please note that a guardian must remain with their child throughout the program. \nRegistration is now open\, Click Here to Register!
URL:https://apostlesucc.org/event/terrific-tuesdays-week-4/
LOCATION:Rader Park\, 1899 Apostles Way\, Lancaster\, PA\, 17603\, United States
ATTACH;FMTTYPE=image/jpeg:https://apostlesucc.org/wp-content/uploads/2026/03/Terrific-Tuesdays-2026-Flyer.jpg
END:VEVENT
BEGIN:VEVENT
DTSTART;TZID=America/New_York:20260714T140000
DTEND;TZID=America/New_York:20260714T150000
DTSTAMP:20260422T231641
CREATED:20260415T132559Z
LAST-MODIFIED:20260415T132559Z
UID:38156-1784037600-1784041200@apostlesucc.org
SUMMARY:Book Club
DESCRIPTION:Book Club meets on the 2nd Tuesday of each month at 2 PM in the Narthex\, and we’d love for you to join us! Whether you’ve read the book or not\, you’re welcome to come for engaging discussions and fellowship. \nJuly 14th\, 2026: The Judges Tale by Jill Kintner
URL:https://apostlesucc.org/event/book-club-13/
LOCATION:Church of the Apostles UCC\, 1850 Marietta Ave\, Lancaster\, PA\, 17603\, United States
END:VEVENT
BEGIN:VEVENT
DTSTART;TZID=America/New_York:20260726T113000
DTEND;TZID=America/New_York:20260726T120000
DTSTAMP:20260422T231641
CREATED:20260303T190249Z
LAST-MODIFIED:20260303T190249Z
UID:38014-1785065400-1785067200@apostlesucc.org
SUMMARY:Flag Raising Ceremony
DESCRIPTION:Join us for the official flag raising in Rader Park on Sunday\, July 26\, 2026\, at 11:30 AM! \nWe’re grateful to Team River Runner’s Susquehanna Valley for generously donating the flag and flagpole\, helping us honor our community in this special way.
URL:https://apostlesucc.org/event/flag-raising-ceremony/
LOCATION:Rader Park\, 1899 Apostles Way\, Lancaster\, PA\, 17603\, United States
ATTACH;FMTTYPE=image/jpeg:https://apostlesucc.org/wp-content/uploads/2026/03/Official-Flag-Raising-July-2026.jpg
END:VEVENT
END:VCALENDAR