BEGIN:VCALENDAR
VERSION:2.0
PRODID:-//Church of the Apostles UCC - ECPv6.13.2.1//NONSGML v1.0//EN
CALSCALE:GREGORIAN
METHOD:PUBLISH
X-WR-CALNAME:Church of the Apostles UCC
X-ORIGINAL-URL:https://apostlesucc.org
X-WR-CALDESC:Events for Church of the Apostles UCC
REFRESH-INTERVAL;VALUE=DURATION:PT1H
X-Robots-Tag:noindex
X-PUBLISHED-TTL:PT1H
BEGIN:VTIMEZONE
TZID:America/New_York
BEGIN:DAYLIGHT
TZOFFSETFROM:-0500
TZOFFSETTO:-0400
TZNAME:EDT
DTSTART:20250309T070000
END:DAYLIGHT
BEGIN:STANDARD
TZOFFSETFROM:-0400
TZOFFSETTO:-0500
TZNAME:EST
DTSTART:20251102T060000
END:STANDARD
END:VTIMEZONE
BEGIN:VEVENT
DTSTART;TZID=America/New_York:20251005T180000
DTEND;TZID=America/New_York:20251005T200000
DTSTAMP:20260424T005814
CREATED:20250910T150854Z
LAST-MODIFIED:20250910T150854Z
UID:37336-1759687200-1759694400@apostlesucc.org
SUMMARY:Youth Group Meeting
DESCRIPTION:Calling all students in grades 4-12 (and friends)! Join us for our Youth Group at 6 PM in our permanent room\, Rm 306\, where we’ll have fun\, build friendships\, enjoy snacks\, and dive into a short Bible study.
URL:https://apostlesucc.org/event/youth-group-meeting-11/
LOCATION:Church of the Apostles UCC\, 1850 Marietta Ave\, Lancaster\, PA\, 17603\, United States
ATTACH;FMTTYPE=image/jpeg:https://apostlesucc.org/wp-content/uploads/2025/09/Youth-Group-Meeting-Slide.jpg
END:VEVENT
BEGIN:VEVENT
DTSTART;TZID=America/New_York:20251004T083000
DTEND;TZID=America/New_York:20251004T110000
DTSTAMP:20260424T005814
CREATED:20250707T181901Z
LAST-MODIFIED:20250828T140100Z
UID:37111-1759566600-1759575600@apostlesucc.org
SUMMARY:Compassion Team Meeting
DESCRIPTION:
URL:https://apostlesucc.org/event/compassion-team-meeting/
LOCATION:Church of the Apostles UCC\, 1850 Marietta Ave\, Lancaster\, PA\, 17603\, United States
END:VEVENT
BEGIN:VEVENT
DTSTART;TZID=America/New_York:20250928T150000
DTEND;TZID=America/New_York:20250928T160000
DTSTAMP:20260424T005814
CREATED:20250709T160442Z
LAST-MODIFIED:20250709T160442Z
UID:37120-1759071600-1759075200@apostlesucc.org
SUMMARY:Drum Circle
DESCRIPTION:Join Music Director Lars Potteiger for a fun\, hands-on drum circle in the grass behind the choir room! All ages are welcome\, and drums will be provided\, just bring your energy and love for rhythm! \n September 28th at 3 PM Rain or Shine (If it rains\, we’ll move into the Sanctuary) \nCome drum with us and feel the beat of community!
URL:https://apostlesucc.org/event/drum-circle-2/
LOCATION:Church of the Apostles UCC\, 1850 Marietta Ave\, Lancaster\, PA\, 17603\, United States
ATTACH;FMTTYPE=image/jpeg:https://apostlesucc.org/wp-content/uploads/2025/07/Drum-Circle-September-28th-2025.jpg
END:VEVENT
BEGIN:VEVENT
DTSTART;TZID=America/New_York:20250928T110000
DTEND;TZID=America/New_York:20250928T120000
DTSTAMP:20260424T005814
CREATED:20250709T160132Z
LAST-MODIFIED:20250709T160132Z
UID:37117-1759057200-1759060800@apostlesucc.org
SUMMARY:Free Vaccine Clinic
DESCRIPTION:We’re excited to once again partner with Melissa Koehler of Hillcrest Pharmacy to offer no-cost vaccines to our community! This year’s clinic will provide both regular and senior flu shots\, along with Moderna and Pfizer COVID-19 vaccines. \nJoin us after worship on Sunday\, September 28\, to get your vaccines and help keep our community safe and healthy. \nTo register\, Click Here or contact the church office at office@apostlesucc.org or by phone. Let’s stay healthy together! \n 
URL:https://apostlesucc.org/event/free-vaccine-clinic/
LOCATION:Church of the Apostles UCC\, 1850 Marietta Ave\, Lancaster\, PA\, 17603\, United States
ATTACH;FMTTYPE=image/jpeg:https://apostlesucc.org/wp-content/uploads/2025/07/Flu-Clinic-2025-Ad.jpg
END:VEVENT
BEGIN:VEVENT
DTSTART;TZID=America/New_York:20250926T180000
DTEND;TZID=America/New_York:20250926T203000
DTSTAMP:20260424T005814
CREATED:20250916T163041Z
LAST-MODIFIED:20250916T163041Z
UID:37350-1758909600-1758918600@apostlesucc.org
SUMMARY:Exploring Christian Nationalism Across Communities and Continents
DESCRIPTION:Date: Friday\, September 26\, 2025\nTime: 6:30 PM – 8:30 PM (Doors open at 6:00 PM)\nLocation: Elizabethtown College – Eshbenshade Bldg. Gibble Auditorium\nAddress: One Alpha Drive\, Elizabethtown\, PA 17022\nJoin us for a powerful evening of education and conversation about the rise of\nChristian Nationalism—what it is\, why it matters\, and how it impacts both our\ndemocracy and our diverse communities. This nonpartisan event will feature two\nrenowned scholars offering local\, national\, and global perspectives.
URL:https://apostlesucc.org/event/exploring-christian-nationalism-across-communities-and-continents/
LOCATION:Elizabethtown College\, 1 Alpha Dr\, Elizabethtown\, PA\, 17022\, United States
ATTACH;FMTTYPE=application/pdf:https://apostlesucc.org/wp-content/uploads/2025/09/Democracy-Faith-Power-SeminarFinal.pdf
END:VEVENT
BEGIN:VEVENT
DTSTART;TZID=America/New_York:20250922T190000
DTEND;TZID=America/New_York:20250922T210000
DTSTAMP:20260424T005814
CREATED:20250625T143126Z
LAST-MODIFIED:20250910T145547Z
UID:37066-1758567600-1758574800@apostlesucc.org
SUMMARY:Board Meeting
DESCRIPTION:
URL:https://apostlesucc.org/event/board-meeting-6/
LOCATION:Church of the Apostles UCC\, 1850 Marietta Ave\, Lancaster\, PA\, 17603\, United States
END:VEVENT
BEGIN:VEVENT
DTSTART;TZID=America/New_York:20250921T180000
DTEND;TZID=America/New_York:20250921T200000
DTSTAMP:20260424T005814
CREATED:20250731T124832Z
LAST-MODIFIED:20250731T124832Z
UID:37203-1758477600-1758484800@apostlesucc.org
SUMMARY:Youth Group Meeting
DESCRIPTION:Calling all students in grades 4-12 (and friends)! Join us for our Youth Group at 6 PM in Rm 306\, where we’ll have fun\, build friendships\, enjoy snacks\, and dive into a short Bible study.
URL:https://apostlesucc.org/event/youth-group-meeting-10/
LOCATION:Church of the Apostles UCC\, 1850 Marietta Ave\, Lancaster\, PA\, 17603\, United States
ATTACH;FMTTYPE=image/jpeg:https://apostlesucc.org/wp-content/uploads/2025/07/Youth-Group-Meeting-Slide-1-1.jpg
END:VEVENT
BEGIN:VEVENT
DTSTART;TZID=America/New_York:20250920T110000
DTEND;TZID=America/New_York:20250920T133000
DTSTAMP:20260424T005814
CREATED:20250910T150513Z
LAST-MODIFIED:20250916T162802Z
UID:37329-1758366000-1758375000@apostlesucc.org
SUMMARY:Saturday in the Park
DESCRIPTION:Join us for games\, prizes 🎁\, and a raffle for $25 off a facility rental 🏠✨ with Board President Johanna Baker. Come connect with our Millersville neighbors and share in the fun! 💙
URL:https://apostlesucc.org/event/saturday-in-the-park/
LOCATION:Freedom Memorial Park\, 9 Shertzer Lane\, Millersvile\, PA\, 17551\, United States
ATTACH;FMTTYPE=image/jpeg:https://apostlesucc.org/wp-content/uploads/2025/09/MBA_SITP-2025_Flyer_Proof_1-786x1024-1.jpg
END:VEVENT
BEGIN:VEVENT
DTSTART;TZID=America/New_York:20250918T183000
DTEND;TZID=America/New_York:20250918T203000
DTSTAMP:20260424T005814
CREATED:20250730T172618Z
LAST-MODIFIED:20250804T173529Z
UID:37191-1758220200-1758227400@apostlesucc.org
SUMMARY:Mocktails & Meaning™: Food Insecurity in Lancaster\, PA
DESCRIPTION:On Thursday\, September 18th at 6:30 PM\, Church of the Apostles UCC will host our next Mocktails & Meaning™ session in the Main Lobby\, focusing on food insecurity in Lancaster County and the potential impact of federal budget cuts. \nGuest speakers Paige McFarling from the FoodHub and Rev. Dr. Matthew Lenahan\, Director of the Wittel Farm Growing Project\, will offer insights into the services they provide and how proposed policy changes could affect their ability to meet community needs. Many are unaware that nearly 40% of Lancaster County residents fall into the ALICE category\, Asset Limited\, Income Constrained\, Employed\, meaning they work but still struggle to afford basic necessities and often don’t qualify for benefits. This conversation will highlight the challenges and local responses to hunger and food access. \nAs always\, we’ll enjoy a signature mocktail together\, this month’s drink is a refreshing Strawberry Basil Spritzer. \nRegister By Clicking Here
URL:https://apostlesucc.org/event/mocktails-meaning-save-the-date/
LOCATION:Church of the Apostles UCC\, 1850 Marietta Ave\, Lancaster\, PA\, 17603\, United States
ATTACH;FMTTYPE=image/jpeg:https://apostlesucc.org/wp-content/uploads/2025/07/Mocktails-Meaning-Flyer-Banner-Landscape-scaled.jpg
END:VEVENT
BEGIN:VEVENT
DTSTART;TZID=America/New_York:20250914T100000
DTEND;TZID=America/New_York:20250914T110000
DTSTAMP:20260424T005814
CREATED:20250826T153008Z
LAST-MODIFIED:20250826T153008Z
UID:37263-1757844000-1757847600@apostlesucc.org
SUMMARY:Back-To-School Blessings Sunday Worship
DESCRIPTION:Children and youth are invited to bring their backpacks and bags to worship on Sunday\, September 14\, for a special blessing as they begin a new school year. All teachers and school staff are invited to receive a blessing during worship\, and our youth group will lead the service with Nathan Moore delivering the sermon. Come celebrate and support our students\, teachers\, and youth leaders! \n 
URL:https://apostlesucc.org/event/back-to-school-blessings-sunday-worship/
LOCATION:Church of the Apostles UCC\, 1850 Marietta Ave\, Lancaster\, PA\, 17603\, United States
ATTACH;FMTTYPE=image/jpeg:https://apostlesucc.org/wp-content/uploads/2025/08/Back-To-School-Worship-Sept.-14th-2025.jpg
END:VEVENT
BEGIN:VEVENT
DTSTART;TZID=America/New_York:20250911T123000
DTEND;TZID=America/New_York:20250911T133000
DTSTAMP:20260424T005814
CREATED:20250625T142805Z
LAST-MODIFIED:20250625T142805Z
UID:37058-1757593800-1757597400@apostlesucc.org
SUMMARY:Finance Committee Meeting
DESCRIPTION:When: Second Thursday of the Month at 12:30 PM \nWhere: The Parlor \nThe Finance Committee supports the congregation by promoting responsible stewardship and providing oversight of the church’s finances. The committee plans and executes year-round stewardship efforts\, including annual campaigns for pledges of time\, talent\, and financial contributions. Additionally\, the committee promotes planned giving opportunities\, such as gifts from estates\, wills\, trusts\, annuities\, insurance policies\, and outright donations of money\, securities\, or property.
URL:https://apostlesucc.org/event/finance-committee-meeting-6/
LOCATION:Church of the Apostles UCC\, 1850 Marietta Ave\, Lancaster\, PA\, 17603\, United States
END:VEVENT
BEGIN:VEVENT
DTSTART;TZID=America/New_York:20250910T130000
DTEND;TZID=America/New_York:20250910T140000
DTSTAMP:20260424T005814
CREATED:20250910T150113Z
LAST-MODIFIED:20250910T150113Z
UID:37326-1757509200-1757512800@apostlesucc.org
SUMMARY:Environmental Team Meeting
DESCRIPTION:The Environmental Team at Church of the Apostles is dedicated to living out our vision of environmental advocacy through meaningful\, sustainable actions. We are committed to reducing our carbon footprint\, exploring alternative energy sources\, and creating a green church through initiatives like transitioning lawns to meadows\, planting native species\, and increasing recycling efforts. We aim to reduce single-use products\, encourage composting\, and promote eco-friendly practices such as using bamboo products and glass communion cups. \nWe are also focused on education\, community partnerships\, and exploring grant opportunities to fund environmental projects. Visit apostlesucc.org/green-justice-ministry to learn more about how we are working to protect the planet and create a more sustainable future. \nStaff Liaison: Rev. Kathryn Kuhn
URL:https://apostlesucc.org/event/environmental-team-meeting-3/
LOCATION:Church of the Apostles UCC\, 1850 Marietta Ave\, Lancaster\, PA\, 17603\, United States
END:VEVENT
BEGIN:VEVENT
DTSTART;TZID=America/New_York:20250909T140000
DTEND;TZID=America/New_York:20250909T150000
DTSTAMP:20260424T005814
CREATED:20250707T181628Z
LAST-MODIFIED:20250707T181628Z
UID:37106-1757426400-1757430000@apostlesucc.org
SUMMARY:Book Club
DESCRIPTION:Book Club meets on the 2nd Tuesday of each month at 2 PM in the Narthex\, and we’d love for you to join us! Whether you’ve read the book or not\, you’re welcome to come for engaging discussions and fellowship. \nSeptember 9th\, 2025: The Girls Who Stepped Out of Line by Maj. Gen. Mari Eder
URL:https://apostlesucc.org/event/book-club-3/
LOCATION:Church of the Apostles UCC\, 1850 Marietta Ave\, Lancaster\, PA\, 17603\, United States
END:VEVENT
BEGIN:VEVENT
DTSTART;TZID=America/New_York:20250908T183000
DTEND;TZID=America/New_York:20250908T193000
DTSTAMP:20260424T005814
CREATED:20250625T142025Z
LAST-MODIFIED:20250730T142228Z
UID:37046-1757356200-1757359800@apostlesucc.org
SUMMARY:Property Committee Meeting
DESCRIPTION:When: First Monday of the Month at 6:30 PM \nWhere: Rm 107 (P2) \nThe Property Committee plays a vital role in fulfilling our congregation’s vision of environmental stewardship and creating a safe\, welcoming space for all. Tasked with maintaining our church buildings and grounds—including the church\, youth center\, farmhouse\, Rader Park\, and barn—we ensure everything is in working order\, up to code\, and repaired or replaced as needed. \nIn alignment with our mission\, we collaborate with other commissions to plan upgrades and additions that promote sustainability and environmental care. By thoughtfully managing our resources and facilities\, we aim to honor God’s creation while providing a safe\, inviting space for members\, staff\, and visitors alike.
URL:https://apostlesucc.org/event/property-committee-meeting-6/
LOCATION:Church of the Apostles UCC\, 1850 Marietta Ave\, Lancaster\, PA\, 17603\, United States
END:VEVENT
BEGIN:VEVENT
DTSTART;TZID=America/New_York:20250907T180000
DTEND;TZID=America/New_York:20250907T200000
DTSTAMP:20260424T005814
CREATED:20250731T124743Z
LAST-MODIFIED:20250731T130220Z
UID:37200-1757268000-1757275200@apostlesucc.org
SUMMARY:Youth Group Meeting
DESCRIPTION:Calling all students in grades 4-12 (and friends)! Join us for our Youth Group at 6 PM in our permanent room\, Rm 306\, where we’ll have fun\, build friendships\, enjoy snacks\, and dive into a short Bible study.
URL:https://apostlesucc.org/event/youth-group-meeting-9/
LOCATION:Church of the Apostles UCC\, 1850 Marietta Ave\, Lancaster\, PA\, 17603\, United States
ATTACH;FMTTYPE=image/jpeg:https://apostlesucc.org/wp-content/uploads/2025/07/Youth-Group-Meeting-Slide-1-1.jpg
END:VEVENT
BEGIN:VEVENT
DTSTART;TZID=America/New_York:20250907T140000
DTEND;TZID=America/New_York:20250907T170000
DTSTAMP:20260424T005814
CREATED:20250731T130207Z
LAST-MODIFIED:20250731T130207Z
UID:37205-1757253600-1757264400@apostlesucc.org
SUMMARY:37th Annual Schrieber Rubber Duckie Race & Festival
DESCRIPTION:🐥 Join our campus partner\, Schreiber Pediatrics\, for their 37th Annual Rubber Duckie Race\, a fun-filled event for a great cause! \n🗓️ Get all the details & register your duck here:👉 schreiberpediatric.org/event/duckies
URL:https://apostlesucc.org/event/37th-annual-schrieber-rubber-duckie-race-festival/
LOCATION:Schrieber Center for Pediatric Development\, 625 Community Way\, Lancaster\, PA\, 17603\, United States
ATTACH;FMTTYPE=image/jpeg:https://apostlesucc.org/wp-content/uploads/2025/07/Schreiber-Duckie-Race-2025.jpg
END:VEVENT
BEGIN:VEVENT
DTSTART;VALUE=DATE:20250901
DTEND;VALUE=DATE:20250902
DTSTAMP:20260424T005814
CREATED:20250401T172538Z
LAST-MODIFIED:20250401T172538Z
UID:36631-1756684800-1756771199@apostlesucc.org
SUMMARY:Office Closed
DESCRIPTION:
URL:https://apostlesucc.org/event/office-closed-3/
LOCATION:Church of the Apostles UCC\, 1850 Marietta Ave\, Lancaster\, PA\, 17603\, United States
END:VEVENT
BEGIN:VEVENT
DTSTART;TZID=America/New_York:20250818T190000
DTEND;TZID=America/New_York:20250818T210000
DTSTAMP:20260424T005814
CREATED:20250513T184002Z
LAST-MODIFIED:20250513T184002Z
UID:36890-1755543600-1755550800@apostlesucc.org
SUMMARY:Board Meeting
DESCRIPTION:
URL:https://apostlesucc.org/event/board-meeting-5/
LOCATION:Church of the Apostles UCC\, 1850 Marietta Ave\, Lancaster\, PA\, 17603\, United States
END:VEVENT
BEGIN:VEVENT
DTSTART;TZID=America/New_York:20250817T180000
DTEND;TZID=America/New_York:20250817T200000
DTSTAMP:20260424T005814
CREATED:20250731T124355Z
LAST-MODIFIED:20250731T124356Z
UID:37197-1755453600-1755460800@apostlesucc.org
SUMMARY:Youth Group Meeting
DESCRIPTION:Calling all students in grades 4-12 (and friends)! Join us for our Youth Group at 6 PM in the Youth Center\, where we’ll have fun\, build friendships\, enjoy snacks\, and dive into a short Bible study.
URL:https://apostlesucc.org/event/youth-group-meeting-7/
LOCATION:Youth Center\, 1879 Apostles Way\, Lancaster\, PA\, 17603\, United States
ATTACH;FMTTYPE=image/jpeg:https://apostlesucc.org/wp-content/uploads/2025/07/Youth-Group-Meeting-Slide-1.jpg
END:VEVENT
BEGIN:VEVENT
DTSTART;TZID=America/New_York:20250817T150000
DTEND;TZID=America/New_York:20250817T170000
DTSTAMP:20260424T005814
CREATED:20250326T134208Z
LAST-MODIFIED:20250326T134208Z
UID:36592-1755442800-1755450000@apostlesucc.org
SUMMARY:Olivia Holeva & Band Concert
DESCRIPTION:Join us at Schellenberger Pavilion in Rader Park on Sunday\, August 17th at 3 PM for an electrifying outdoor concert with Bad Publicity! This dynamic rock trio from Reading\, PA—featuring singer-songwriter Olivia Holeva\, guitarist Frankie Hagen\, and drummer Michael Gruber—brings a fresh\, high-energy sound blending rock\, jazz\, and metal influences. \nThe band formed at Albright College\, bonding over late-night jam sessions that led to their self-titled debut album\, Bad Publicity\, released on Good Friday 2024. Now\, they’re gearing up to drop their sophomore album\, Dearly Beloved\, and you can catch their unforgettable live performance right here in Rader Park! \nThis concert is free to attend\, with a freewill offering taken in lieu of tickets. Bring a lawn chair\, soak in the summer vibes\, and enjoy an afternoon of incredible live music!
URL:https://apostlesucc.org/event/olivia-holeva-band-concert/
LOCATION:Rader Park\, 1899 Apostles Way\, Lancaster\, PA\, 17603\, United States
ATTACH;FMTTYPE=image/jpeg:https://apostlesucc.org/wp-content/uploads/2025/03/2025-Summer-Concert-Series-Postcard.jpg
END:VEVENT
BEGIN:VEVENT
DTSTART;TZID=America/New_York:20250814T123000
DTEND;TZID=America/New_York:20250814T133000
DTSTAMP:20260424T005814
CREATED:20250513T183817Z
LAST-MODIFIED:20250513T183817Z
UID:36886-1755174600-1755178200@apostlesucc.org
SUMMARY:Finance Committee Meeting
DESCRIPTION:When: Second Thursday of the Month at 12:30 PM \nWhere: The Parlor \nThe Finance Committee supports the congregation by promoting responsible stewardship and providing oversight of the church’s finances. The committee plans and executes year-round stewardship efforts\, including annual campaigns for pledges of time\, talent\, and financial contributions. Additionally\, the committee promotes planned giving opportunities\, such as gifts from estates\, wills\, trusts\, annuities\, insurance policies\, and outright donations of money\, securities\, or property.
URL:https://apostlesucc.org/event/finance-committee-meeting-5/
LOCATION:Church of the Apostles UCC\, 1850 Marietta Ave\, Lancaster\, PA\, 17603\, United States
END:VEVENT
BEGIN:VEVENT
DTSTART;TZID=America/New_York:20250813T130000
DTEND;TZID=America/New_York:20250813T140000
DTSTAMP:20260424T005814
CREATED:20250730T142437Z
LAST-MODIFIED:20250730T142437Z
UID:37162-1755090000-1755093600@apostlesucc.org
SUMMARY:Environmental Team Meeting
DESCRIPTION:The Environmental Team at Church of the Apostles is dedicated to living out our vision of environmental advocacy through meaningful\, sustainable actions. We are committed to reducing our carbon footprint\, exploring alternative energy sources\, and creating a green church through initiatives like transitioning lawns to meadows\, planting native species\, and increasing recycling efforts. We aim to reduce single-use products\, encourage composting\, and promote eco-friendly practices such as using bamboo products and glass communion cups. \nWe are also focused on education\, community partnerships\, and exploring grant opportunities to fund environmental projects. Visit apostlesucc.org/green-justice-ministry to learn more about how we are working to protect the planet and create a more sustainable future.
URL:https://apostlesucc.org/event/environmental-team-meeting-2/
LOCATION:Church of the Apostles UCC\, 1850 Marietta Ave\, Lancaster\, PA\, 17603\, United States
END:VEVENT
BEGIN:VEVENT
DTSTART;TZID=America/New_York:20250812T140000
DTEND;TZID=America/New_York:20250812T150000
DTSTAMP:20260424T005814
CREATED:20250707T181540Z
LAST-MODIFIED:20250707T181540Z
UID:37104-1755007200-1755010800@apostlesucc.org
SUMMARY:Book Club
DESCRIPTION:Book Club meets on the 2nd Tuesday of each month at 2 PM in the Narthex\, and we’d love for you to join us! Whether you’ve read the book or not\, you’re welcome to come for engaging discussions and fellowship. \nAugust 12th\, 2025: Before We Forget Kindness by Toshikazu Kowaguchi
URL:https://apostlesucc.org/event/book-club-2/
LOCATION:Church of the Apostles UCC\, 1850 Marietta Ave\, Lancaster\, PA\, 17603\, United States
END:VEVENT
BEGIN:VEVENT
DTSTART;TZID=America/New_York:20250809T180000
DTEND;TZID=America/New_York:20250809T220000
DTSTAMP:20260424T005814
CREATED:20250606T143800Z
LAST-MODIFIED:20250606T143800Z
UID:36983-1754762400-1754776800@apostlesucc.org
SUMMARY:Community Game Night
DESCRIPTION:Community Game Nights return this summer! Join us on the second Saturdays of each month\, starting June 14th\, for games\, snacks\, and fun in Rader Park. Bring your favorite games and invite your friends and family\, everyone is welcome! Plus\, we may have fire pits and campouts afterward. Stay tuned!
URL:https://apostlesucc.org/event/community-game-night-4/
LOCATION:Rader Park\, 1899 Apostles Way\, Lancaster\, PA\, 17603\, United States
ATTACH;FMTTYPE=image/jpeg:https://apostlesucc.org/wp-content/uploads/2025/06/COA-Game-Night-FB-PostFlyer.jpg
END:VEVENT
BEGIN:VEVENT
DTSTART;TZID=America/New_York:20250805T180000
DTEND;TZID=America/New_York:20250805T200000
DTSTAMP:20260424T005814
CREATED:20250730T175822Z
LAST-MODIFIED:20250730T175822Z
UID:37193-1754416800-1754424000@apostlesucc.org
SUMMARY:National Night Out: Millersville
DESCRIPTION: Mark your calendars\, August 5th is National Night Out! We’ll be joining Millersville’s event and spreading some light with free flashlights\, keychains\, and stickers! Plus\, we’re raffling off a certificate you can use toward a facility rental at Church of the Apostles! Come out\, say hi\, and connect with your community\, we can’t wait to see you! 
URL:https://apostlesucc.org/event/national-night-out-millersville/
LOCATION:Charles F. Snyder Funeral Home\, 100 Municipal Dr\, Millersville\, PA\, 17551\, United States
ATTACH;FMTTYPE=image/jpeg:https://apostlesucc.org/wp-content/uploads/2025/07/525718224_1174314364726049_7531792134645093361_n.jpg
END:VEVENT
BEGIN:VEVENT
DTSTART;TZID=America/New_York:20250804T183000
DTEND;TZID=America/New_York:20250804T193000
DTSTAMP:20260424T005814
CREATED:20250513T183649Z
LAST-MODIFIED:20250730T142026Z
UID:36882-1754332200-1754335800@apostlesucc.org
SUMMARY:Property Committee Meeting
DESCRIPTION:When: First Monday of the Month at 6:30 PM \nWhere: The Parlor \nThe Property Committee plays a vital role in fulfilling our congregation’s vision of environmental stewardship and creating a safe\, welcoming space for all. Tasked with maintaining our church buildings and grounds—including the church\, youth center\, farmhouse\, Rader Park\, and barn—we ensure everything is in working order\, up to code\, and repaired or replaced as needed. \nIn alignment with our mission\, we collaborate with other commissions to plan upgrades and additions that promote sustainability and environmental care. By thoughtfully managing our resources and facilities\, we aim to honor God’s creation while providing a safe\, inviting space for members\, staff\, and visitors alike.
URL:https://apostlesucc.org/event/property-committee-meeting-5/
LOCATION:Church of the Apostles UCC\, 1850 Marietta Ave\, Lancaster\, PA\, 17603\, United States
END:VEVENT
BEGIN:VEVENT
DTSTART;TZID=America/New_York:20250802T150000
DTEND;TZID=America/New_York:20250802T220000
DTSTAMP:20260424T005814
CREATED:20250623T132921Z
LAST-MODIFIED:20250625T140757Z
UID:37023-1754146800-1754172000@apostlesucc.org
SUMMARY:Youthlympics
DESCRIPTION:Get ready for a weekend of fun\, food\, and fellowship as our COA youth invite the entire church to a Churchwide Campout & Youthlympics in Rader Park\, happening Saturday\, August 2 to Sunday\, August 3! \nJoin us for an afternoon of wild and wacky games\, think wiffle ball\, three-legged races\, and more! Stick around for a potluck dinner\, then gather ’round the campfire for s’mores before settling in for an overnight campout under the stars. \nTentative Schedule: \n3-6 PM: Youthlympics games outside the Youth Center \n6-8 PM: Potluck cookout at the Rader Park Pavilion \n8-10 PM: Campfire + s’mores \n10 PM: Overnight campout \nCome for a few hours or stay the night\, whatever fits your summer vibe! Friends and family welcome!
URL:https://apostlesucc.org/event/youthlympics/
LOCATION:Youth Center\, 1879 Apostles Way\, Lancaster\, PA\, 17603\, United States
ATTACH;FMTTYPE=image/png:https://apostlesucc.org/wp-content/uploads/2025/06/Youthlympics-Campout-Flyer.png
END:VEVENT
BEGIN:VEVENT
DTSTART;TZID=America/New_York:20250727T180000
DTEND;TZID=America/New_York:20250727T200000
DTSTAMP:20260424T005814
CREATED:20250623T132542Z
LAST-MODIFIED:20250714T150552Z
UID:37020-1753639200-1753646400@apostlesucc.org
SUMMARY:Youth Group Meeting (Fellowship Hall)
DESCRIPTION:Calling all students in grades 4-12 (and friends)! Join us for our new Youth Group at 6 PM in Fellowship Hall\, where we’ll have fun\, build friendships\, enjoy snacks\, and dive into a short Bible study.
URL:https://apostlesucc.org/event/youth-group-meeting-8/
LOCATION:Church of the Apostles UCC\, 1850 Marietta Ave\, Lancaster\, PA\, 17603\, United States
ATTACH;FMTTYPE=image/jpeg:https://apostlesucc.org/wp-content/uploads/2025/06/Youth-Group-Meeting-Slide-1.jpg
END:VEVENT
BEGIN:VEVENT
DTSTART;TZID=America/New_York:20250727T150000
DTEND;TZID=America/New_York:20250727T160000
DTSTAMP:20260424T005814
CREATED:20250625T141007Z
LAST-MODIFIED:20250625T141007Z
UID:37039-1753628400-1753632000@apostlesucc.org
SUMMARY:Hymn Sing with Lars Potteiger
DESCRIPTION:Join Music Director Lars Potteiger on Sunday\, July 27th at 3 PM in the Sanctuary for a beautiful afternoon of hymns! All are welcome to come together and raise our voices in song.  This is a free event\, and we can’t wait to celebrate the joy of music with you!
URL:https://apostlesucc.org/event/hymn-sing-with-lars-potteiger/
LOCATION:Church of the Apostles UCC\, 1850 Marietta Ave\, Lancaster\, PA\, 17603\, United States
ATTACH;FMTTYPE=image/jpeg:https://apostlesucc.org/wp-content/uploads/2025/06/July-Hymn-Sing-FB-Post.jpg
END:VEVENT
BEGIN:VEVENT
DTSTART;TZID=America/New_York:20250721T190000
DTEND;TZID=America/New_York:20250721T210000
DTSTAMP:20260424T005814
CREATED:20250513T183932Z
LAST-MODIFIED:20250513T183932Z
UID:36888-1753124400-1753131600@apostlesucc.org
SUMMARY:Board Meeting
DESCRIPTION:
URL:https://apostlesucc.org/event/board-meeting-4/
LOCATION:Church of the Apostles UCC\, 1850 Marietta Ave\, Lancaster\, PA\, 17603\, United States
END:VEVENT
END:VCALENDAR