BEGIN:VCALENDAR
VERSION:2.0
PRODID:-//Church of the Apostles UCC - ECPv6.13.2.1//NONSGML v1.0//EN
CALSCALE:GREGORIAN
METHOD:PUBLISH
X-WR-CALNAME:Church of the Apostles UCC
X-ORIGINAL-URL:https://apostlesucc.org
X-WR-CALDESC:Events for Church of the Apostles UCC
REFRESH-INTERVAL;VALUE=DURATION:PT1H
X-Robots-Tag:noindex
X-PUBLISHED-TTL:PT1H
BEGIN:VTIMEZONE
TZID:America/New_York
BEGIN:DAYLIGHT
TZOFFSETFROM:-0500
TZOFFSETTO:-0400
TZNAME:EDT
DTSTART:20250309T070000
END:DAYLIGHT
BEGIN:STANDARD
TZOFFSETFROM:-0400
TZOFFSETTO:-0500
TZNAME:EST
DTSTART:20251102T060000
END:STANDARD
END:VTIMEZONE
BEGIN:VEVENT
DTSTART;TZID=America/New_York:20250802T150000
DTEND;TZID=America/New_York:20250802T220000
DTSTAMP:20260423T225044
CREATED:20250623T132921Z
LAST-MODIFIED:20250625T140757Z
UID:37023-1754146800-1754172000@apostlesucc.org
SUMMARY:Youthlympics
DESCRIPTION:Get ready for a weekend of fun\, food\, and fellowship as our COA youth invite the entire church to a Churchwide Campout & Youthlympics in Rader Park\, happening Saturday\, August 2 to Sunday\, August 3! \nJoin us for an afternoon of wild and wacky games\, think wiffle ball\, three-legged races\, and more! Stick around for a potluck dinner\, then gather ’round the campfire for s’mores before settling in for an overnight campout under the stars. \nTentative Schedule: \n3-6 PM: Youthlympics games outside the Youth Center \n6-8 PM: Potluck cookout at the Rader Park Pavilion \n8-10 PM: Campfire + s’mores \n10 PM: Overnight campout \nCome for a few hours or stay the night\, whatever fits your summer vibe! Friends and family welcome!
URL:https://apostlesucc.org/event/youthlympics/
LOCATION:Youth Center\, 1879 Apostles Way\, Lancaster\, PA\, 17603\, United States
ATTACH;FMTTYPE=image/png:https://apostlesucc.org/wp-content/uploads/2025/06/Youthlympics-Campout-Flyer.png
END:VEVENT
BEGIN:VEVENT
DTSTART;TZID=America/New_York:20250804T183000
DTEND;TZID=America/New_York:20250804T193000
DTSTAMP:20260423T225044
CREATED:20250513T183649Z
LAST-MODIFIED:20250730T142026Z
UID:36882-1754332200-1754335800@apostlesucc.org
SUMMARY:Property Committee Meeting
DESCRIPTION:When: First Monday of the Month at 6:30 PM \nWhere: The Parlor \nThe Property Committee plays a vital role in fulfilling our congregation’s vision of environmental stewardship and creating a safe\, welcoming space for all. Tasked with maintaining our church buildings and grounds—including the church\, youth center\, farmhouse\, Rader Park\, and barn—we ensure everything is in working order\, up to code\, and repaired or replaced as needed. \nIn alignment with our mission\, we collaborate with other commissions to plan upgrades and additions that promote sustainability and environmental care. By thoughtfully managing our resources and facilities\, we aim to honor God’s creation while providing a safe\, inviting space for members\, staff\, and visitors alike.
URL:https://apostlesucc.org/event/property-committee-meeting-5/
LOCATION:Church of the Apostles UCC\, 1850 Marietta Ave\, Lancaster\, PA\, 17603\, United States
END:VEVENT
BEGIN:VEVENT
DTSTART;TZID=America/New_York:20250805T180000
DTEND;TZID=America/New_York:20250805T200000
DTSTAMP:20260423T225044
CREATED:20250730T175822Z
LAST-MODIFIED:20250730T175822Z
UID:37193-1754416800-1754424000@apostlesucc.org
SUMMARY:National Night Out: Millersville
DESCRIPTION: Mark your calendars\, August 5th is National Night Out! We’ll be joining Millersville’s event and spreading some light with free flashlights\, keychains\, and stickers! Plus\, we’re raffling off a certificate you can use toward a facility rental at Church of the Apostles! Come out\, say hi\, and connect with your community\, we can’t wait to see you! 
URL:https://apostlesucc.org/event/national-night-out-millersville/
LOCATION:Charles F. Snyder Funeral Home\, 100 Municipal Dr\, Millersville\, PA\, 17551\, United States
ATTACH;FMTTYPE=image/jpeg:https://apostlesucc.org/wp-content/uploads/2025/07/525718224_1174314364726049_7531792134645093361_n.jpg
END:VEVENT
BEGIN:VEVENT
DTSTART;TZID=America/New_York:20250809T180000
DTEND;TZID=America/New_York:20250809T220000
DTSTAMP:20260423T225044
CREATED:20250606T143800Z
LAST-MODIFIED:20250606T143800Z
UID:36983-1754762400-1754776800@apostlesucc.org
SUMMARY:Community Game Night
DESCRIPTION:Community Game Nights return this summer! Join us on the second Saturdays of each month\, starting June 14th\, for games\, snacks\, and fun in Rader Park. Bring your favorite games and invite your friends and family\, everyone is welcome! Plus\, we may have fire pits and campouts afterward. Stay tuned!
URL:https://apostlesucc.org/event/community-game-night-4/
LOCATION:Rader Park\, 1899 Apostles Way\, Lancaster\, PA\, 17603\, United States
ATTACH;FMTTYPE=image/jpeg:https://apostlesucc.org/wp-content/uploads/2025/06/COA-Game-Night-FB-PostFlyer.jpg
END:VEVENT
BEGIN:VEVENT
DTSTART;TZID=America/New_York:20250812T140000
DTEND;TZID=America/New_York:20250812T150000
DTSTAMP:20260423T225044
CREATED:20250707T181540Z
LAST-MODIFIED:20250707T181540Z
UID:37104-1755007200-1755010800@apostlesucc.org
SUMMARY:Book Club
DESCRIPTION:Book Club meets on the 2nd Tuesday of each month at 2 PM in the Narthex\, and we’d love for you to join us! Whether you’ve read the book or not\, you’re welcome to come for engaging discussions and fellowship. \nAugust 12th\, 2025: Before We Forget Kindness by Toshikazu Kowaguchi
URL:https://apostlesucc.org/event/book-club-2/
LOCATION:Church of the Apostles UCC\, 1850 Marietta Ave\, Lancaster\, PA\, 17603\, United States
END:VEVENT
BEGIN:VEVENT
DTSTART;TZID=America/New_York:20250813T130000
DTEND;TZID=America/New_York:20250813T140000
DTSTAMP:20260423T225044
CREATED:20250730T142437Z
LAST-MODIFIED:20250730T142437Z
UID:37162-1755090000-1755093600@apostlesucc.org
SUMMARY:Environmental Team Meeting
DESCRIPTION:The Environmental Team at Church of the Apostles is dedicated to living out our vision of environmental advocacy through meaningful\, sustainable actions. We are committed to reducing our carbon footprint\, exploring alternative energy sources\, and creating a green church through initiatives like transitioning lawns to meadows\, planting native species\, and increasing recycling efforts. We aim to reduce single-use products\, encourage composting\, and promote eco-friendly practices such as using bamboo products and glass communion cups. \nWe are also focused on education\, community partnerships\, and exploring grant opportunities to fund environmental projects. Visit apostlesucc.org/green-justice-ministry to learn more about how we are working to protect the planet and create a more sustainable future.
URL:https://apostlesucc.org/event/environmental-team-meeting-2/
LOCATION:Church of the Apostles UCC\, 1850 Marietta Ave\, Lancaster\, PA\, 17603\, United States
END:VEVENT
BEGIN:VEVENT
DTSTART;TZID=America/New_York:20250814T123000
DTEND;TZID=America/New_York:20250814T133000
DTSTAMP:20260423T225044
CREATED:20250513T183817Z
LAST-MODIFIED:20250513T183817Z
UID:36886-1755174600-1755178200@apostlesucc.org
SUMMARY:Finance Committee Meeting
DESCRIPTION:When: Second Thursday of the Month at 12:30 PM \nWhere: The Parlor \nThe Finance Committee supports the congregation by promoting responsible stewardship and providing oversight of the church’s finances. The committee plans and executes year-round stewardship efforts\, including annual campaigns for pledges of time\, talent\, and financial contributions. Additionally\, the committee promotes planned giving opportunities\, such as gifts from estates\, wills\, trusts\, annuities\, insurance policies\, and outright donations of money\, securities\, or property.
URL:https://apostlesucc.org/event/finance-committee-meeting-5/
LOCATION:Church of the Apostles UCC\, 1850 Marietta Ave\, Lancaster\, PA\, 17603\, United States
END:VEVENT
BEGIN:VEVENT
DTSTART;TZID=America/New_York:20250817T150000
DTEND;TZID=America/New_York:20250817T170000
DTSTAMP:20260423T225044
CREATED:20250326T134208Z
LAST-MODIFIED:20250326T134208Z
UID:36592-1755442800-1755450000@apostlesucc.org
SUMMARY:Olivia Holeva & Band Concert
DESCRIPTION:Join us at Schellenberger Pavilion in Rader Park on Sunday\, August 17th at 3 PM for an electrifying outdoor concert with Bad Publicity! This dynamic rock trio from Reading\, PA—featuring singer-songwriter Olivia Holeva\, guitarist Frankie Hagen\, and drummer Michael Gruber—brings a fresh\, high-energy sound blending rock\, jazz\, and metal influences. \nThe band formed at Albright College\, bonding over late-night jam sessions that led to their self-titled debut album\, Bad Publicity\, released on Good Friday 2024. Now\, they’re gearing up to drop their sophomore album\, Dearly Beloved\, and you can catch their unforgettable live performance right here in Rader Park! \nThis concert is free to attend\, with a freewill offering taken in lieu of tickets. Bring a lawn chair\, soak in the summer vibes\, and enjoy an afternoon of incredible live music!
URL:https://apostlesucc.org/event/olivia-holeva-band-concert/
LOCATION:Rader Park\, 1899 Apostles Way\, Lancaster\, PA\, 17603\, United States
ATTACH;FMTTYPE=image/jpeg:https://apostlesucc.org/wp-content/uploads/2025/03/2025-Summer-Concert-Series-Postcard.jpg
END:VEVENT
BEGIN:VEVENT
DTSTART;TZID=America/New_York:20250817T180000
DTEND;TZID=America/New_York:20250817T200000
DTSTAMP:20260423T225044
CREATED:20250731T124355Z
LAST-MODIFIED:20250731T124356Z
UID:37197-1755453600-1755460800@apostlesucc.org
SUMMARY:Youth Group Meeting
DESCRIPTION:Calling all students in grades 4-12 (and friends)! Join us for our Youth Group at 6 PM in the Youth Center\, where we’ll have fun\, build friendships\, enjoy snacks\, and dive into a short Bible study.
URL:https://apostlesucc.org/event/youth-group-meeting-7/
LOCATION:Youth Center\, 1879 Apostles Way\, Lancaster\, PA\, 17603\, United States
ATTACH;FMTTYPE=image/jpeg:https://apostlesucc.org/wp-content/uploads/2025/07/Youth-Group-Meeting-Slide-1.jpg
END:VEVENT
BEGIN:VEVENT
DTSTART;TZID=America/New_York:20250818T190000
DTEND;TZID=America/New_York:20250818T210000
DTSTAMP:20260423T225044
CREATED:20250513T184002Z
LAST-MODIFIED:20250513T184002Z
UID:36890-1755543600-1755550800@apostlesucc.org
SUMMARY:Board Meeting
DESCRIPTION:
URL:https://apostlesucc.org/event/board-meeting-5/
LOCATION:Church of the Apostles UCC\, 1850 Marietta Ave\, Lancaster\, PA\, 17603\, United States
END:VEVENT
END:VCALENDAR