BEGIN:VCALENDAR
VERSION:2.0
PRODID:-//Church of the Apostles UCC - ECPv6.13.2.1//NONSGML v1.0//EN
CALSCALE:GREGORIAN
METHOD:PUBLISH
X-ORIGINAL-URL:https://apostlesucc.org
X-WR-CALDESC:Events for Church of the Apostles UCC
REFRESH-INTERVAL;VALUE=DURATION:PT1H
X-Robots-Tag:noindex
X-PUBLISHED-TTL:PT1H
BEGIN:VTIMEZONE
TZID:America/New_York
BEGIN:DAYLIGHT
TZOFFSETFROM:-0500
TZOFFSETTO:-0400
TZNAME:EDT
DTSTART:20250309T070000
END:DAYLIGHT
BEGIN:STANDARD
TZOFFSETFROM:-0400
TZOFFSETTO:-0500
TZNAME:EST
DTSTART:20251102T060000
END:STANDARD
END:VTIMEZONE
BEGIN:VEVENT
DTSTART;TZID=America/New_York:20251004T083000
DTEND;TZID=America/New_York:20251004T110000
DTSTAMP:20260423T200254
CREATED:20250707T181901Z
LAST-MODIFIED:20250828T140100Z
UID:37111-1759566600-1759575600@apostlesucc.org
SUMMARY:Compassion Team Meeting
DESCRIPTION:
URL:https://apostlesucc.org/event/compassion-team-meeting/
LOCATION:Church of the Apostles UCC\, 1850 Marietta Ave\, Lancaster\, PA\, 17603\, United States
END:VEVENT
BEGIN:VEVENT
DTSTART;TZID=America/New_York:20251005T180000
DTEND;TZID=America/New_York:20251005T200000
DTSTAMP:20260423T200254
CREATED:20250910T150854Z
LAST-MODIFIED:20250910T150854Z
UID:37336-1759687200-1759694400@apostlesucc.org
SUMMARY:Youth Group Meeting
DESCRIPTION:Calling all students in grades 4-12 (and friends)! Join us for our Youth Group at 6 PM in our permanent room\, Rm 306\, where we’ll have fun\, build friendships\, enjoy snacks\, and dive into a short Bible study.
URL:https://apostlesucc.org/event/youth-group-meeting-11/
LOCATION:Church of the Apostles UCC\, 1850 Marietta Ave\, Lancaster\, PA\, 17603\, United States
ATTACH;FMTTYPE=image/jpeg:https://apostlesucc.org/wp-content/uploads/2025/09/Youth-Group-Meeting-Slide.jpg
END:VEVENT
BEGIN:VEVENT
DTSTART;TZID=America/New_York:20251008T123000
DTEND;TZID=America/New_York:20251008T133000
DTSTAMP:20260423T200254
CREATED:20250625T142836Z
LAST-MODIFIED:20250912T160238Z
UID:37060-1759926600-1759930200@apostlesucc.org
SUMMARY:Finance Committee Meeting
DESCRIPTION:When: Second Thursday of the Month at 12:30 PM \nWhere: The Parlor \nThe Finance Committee supports the congregation by promoting responsible stewardship and providing oversight of the church’s finances. The committee plans and executes year-round stewardship efforts\, including annual campaigns for pledges of time\, talent\, and financial contributions. Additionally\, the committee promotes planned giving opportunities\, such as gifts from estates\, wills\, trusts\, annuities\, insurance policies\, and outright donations of money\, securities\, or property.
URL:https://apostlesucc.org/event/finance-committee-meeting-7/
LOCATION:Church of the Apostles UCC\, 1850 Marietta Ave\, Lancaster\, PA\, 17603\, United States
END:VEVENT
BEGIN:VEVENT
DTSTART;TZID=America/New_York:20251011T180000
DTEND;TZID=America/New_York:20251011T220000
DTSTAMP:20260423T200254
CREATED:20250606T143836Z
LAST-MODIFIED:20250828T135959Z
UID:36985-1760205600-1760220000@apostlesucc.org
SUMMARY:Community Game Night
DESCRIPTION:Community Game Nights return this summer! Join us on the second Saturdays of each month for games\, snacks\, and fun in Rader Park. Bring your favorite games and invite your friends and family\, everyone is welcome! Plus\, we may have fire pits and campouts afterward. Stay tuned!
URL:https://apostlesucc.org/event/community-game-night-5/
LOCATION:Rader Park\, 1899 Apostles Way\, Lancaster\, PA\, 17603\, United States
ATTACH;FMTTYPE=image/jpeg:https://apostlesucc.org/wp-content/uploads/2025/06/COA-Game-Night-FB-PostFlyer.jpg
END:VEVENT
BEGIN:VEVENT
DTSTART;TZID=America/New_York:20251012T111500
DTEND;TZID=America/New_York:20251012T130000
DTSTAMP:20260423T200254
CREATED:20250826T153233Z
LAST-MODIFIED:20250915T131513Z
UID:37266-1760267700-1760274000@apostlesucc.org
SUMMARY:50th Anniversary Team Meeting
DESCRIPTION:Where: Parlor \nThe 50th Anniversary Team is dedicated to planning meaningful events and outreach to commemorate Church of the Apostles UCC’s 50th anniversary in May 2025. With a focus on honoring our history and celebrating our vibrant future\, we’re bringing the congregation and community together in joyful reflection and connection. \nTeam Lead: Donna Carr
URL:https://apostlesucc.org/event/50th-anniversary-team-meeting-3/
LOCATION:Church of the Apostles UCC\, 1850 Marietta Ave\, Lancaster\, PA\, 17603\, United States
END:VEVENT
BEGIN:VEVENT
DTSTART;TZID=America/New_York:20251012T150000
DTEND;TZID=America/New_York:20251012T170000
DTSTAMP:20260423T200254
CREATED:20250625T143630Z
LAST-MODIFIED:20250730T162059Z
UID:37074-1760281200-1760288400@apostlesucc.org
SUMMARY:Apostles Academy Concerts: Malta Band of Lancaster
DESCRIPTION:We’re thrilled to welcome The Malta Band\, one of the oldest concert bands in Lancaster County\, for a special community concert at Church of the Apostles UCC! \n📅 Sunday\, October 12 at 3 PM \n📍 1850 Marietta Ave\, Lancaster\, PA 17603 \n📍 Sanctuary – Fully accessible with plenty of handicap parking \nThis concert is free to attend\, and a free-will offering will be collected in place of tickets to support the Apostles Academy. \nBring a friend\, relax\, and enjoy an inspiring afternoon of live music in a welcoming space. \nWe hope to see you there!
URL:https://apostlesucc.org/event/apostles-academy-concerts-malta-band-of-lancaster/
LOCATION:Church of the Apostles UCC\, 1850 Marietta Ave\, Lancaster\, PA\, 17603\, United States
ATTACH;FMTTYPE=image/jpeg:https://apostlesucc.org/wp-content/uploads/2025/06/Malta-Band-Concert-FB-10.12.25.jpg
END:VEVENT
BEGIN:VEVENT
DTSTART;TZID=America/New_York:20251014T140000
DTEND;TZID=America/New_York:20251014T150000
DTSTAMP:20260423T200254
CREATED:20250707T181714Z
LAST-MODIFIED:20250707T181714Z
UID:37108-1760450400-1760454000@apostlesucc.org
SUMMARY:Book Club
DESCRIPTION:Book Club meets on the 2nd Tuesday of each month at 2 PM in the Narthex\, and we’d love for you to join us! Whether you’ve read the book or not\, you’re welcome to come for engaging discussions and fellowship. \nOctober 14th\, 2025: The Divorce Party by Laura Dare
URL:https://apostlesucc.org/event/book-club-4/
LOCATION:Church of the Apostles UCC\, 1850 Marietta Ave\, Lancaster\, PA\, 17603\, United States
END:VEVENT
BEGIN:VEVENT
DTSTART;TZID=America/New_York:20251016T183000
DTEND;TZID=America/New_York:20251016T203000
DTSTAMP:20260423T200254
CREATED:20250804T173639Z
LAST-MODIFIED:20250804T173639Z
UID:37226-1760639400-1760646600@apostlesucc.org
SUMMARY:Mocktails & Meaning™: Sustainable Farming
DESCRIPTION:On Thursday\, October 16th at 6:30 PM in the Main Lobby\, join us for Mocktails & Meaning™ as we welcome back Rev. Dr. Matthew Lenahan\, Director of the Wittel Farm Growing Project. This session will focus on sustainable farming and the practical steps individuals and communities can take to combat climate change. Learn how changes in farming practices can transform a farm into a carbon sink\, capturing carbon before it’s released into the atmosphere\, and how everyday habits at home can make a meaningful environmental impact. \nOur featured mocktail for the evening will be a refreshing Virgin Mojito \nRegister now to attend: Click Here!
URL:https://apostlesucc.org/event/mocktails-meaning-sustainable-farming/
LOCATION:Church of the Apostles UCC\, 1850 Marietta Ave\, Lancaster\, PA\, 17603\, United States
ATTACH;FMTTYPE=image/jpeg:https://apostlesucc.org/wp-content/uploads/2025/07/Mocktails-Meaning-Flyer-Banner-Landscape-1-scaled.jpg
END:VEVENT
BEGIN:VEVENT
DTSTART;TZID=America/New_York:20251018T150000
DTEND;TZID=America/New_York:20251018T170000
DTSTAMP:20260423T200254
CREATED:20250814T150827Z
LAST-MODIFIED:20250814T150827Z
UID:37240-1760799600-1760806800@apostlesucc.org
SUMMARY:Flicks & Fun: Free Family Movie Night
DESCRIPTION:Flicks & Fun: Free Family Movie Night is coming to the Fellowship Hall at Church of the Apostles UCC! Join us on October 18th\, with doors opening at 3:00 PM and Disney’s Spooky Buddies starting at 3:15 PM. Enjoy games and activities for kids\, plus a small cash-only snack booth with treats for purchase\, proceeds will benefit the UCC’s Neighbors in Need fund. Kids are welcome to wear their Halloween costumes\, and don’t forget to bring a chair or blanket for comfy viewing. Indoors\, so it’s rain or shine\, and best of all\, the movie is free and open to everyone in the community!
URL:https://apostlesucc.org/event/flicks-fun-free-family-movie-night/
LOCATION:Church of the Apostles UCC\, 1850 Marietta Ave\, Lancaster\, PA\, 17603\, United States
ATTACH;FMTTYPE=image/jpeg:https://apostlesucc.org/wp-content/uploads/2025/08/2.jpg
END:VEVENT
BEGIN:VEVENT
DTSTART;TZID=America/New_York:20251019T180000
DTEND;TZID=America/New_York:20251019T200000
DTSTAMP:20260423T200254
CREATED:20250910T150930Z
LAST-MODIFIED:20251007T134504Z
UID:37339-1760896800-1760904000@apostlesucc.org
SUMMARY:Youth Group Meeting
DESCRIPTION:Join the Apostles Youth Group on Sunday\, October 19\, for a campfire and s’mores at the Rader Park Pine Grove! All youth in grades 4-12 are welcome. Bring your friends for a fun evening. Registration is encouraged so we have enough supplies for everyone. Register by Clicking Here
URL:https://apostlesucc.org/event/youth-group-meeting-12/
LOCATION:Rader Park\, 1899 Apostles Way\, Lancaster\, PA\, 17603\, United States
ATTACH;FMTTYPE=image/jpeg:https://apostlesucc.org/wp-content/uploads/2025/09/Youth-Group-Meeting-Slide-1.jpg
END:VEVENT
BEGIN:VEVENT
DTSTART;TZID=America/New_York:20251020T190000
DTEND;TZID=America/New_York:20251020T210000
DTSTAMP:20260423T200254
CREATED:20250625T143154Z
LAST-MODIFIED:20250625T143154Z
UID:37068-1760986800-1760994000@apostlesucc.org
SUMMARY:Board Meeting
DESCRIPTION:
URL:https://apostlesucc.org/event/board-meeting-7/
LOCATION:Church of the Apostles UCC\, 1850 Marietta Ave\, Lancaster\, PA\, 17603\, United States
END:VEVENT
BEGIN:VEVENT
DTSTART;TZID=America/New_York:20251026T110000
DTEND;TZID=America/New_York:20251026T120000
DTSTAMP:20260423T200254
CREATED:20251001T161821Z
LAST-MODIFIED:20251001T161821Z
UID:37392-1761476400-1761480000@apostlesucc.org
SUMMARY:Ministry Fair 2025
DESCRIPTION:
URL:https://apostlesucc.org/event/ministry-fair-2025/
LOCATION:Church of the Apostles UCC\, 1850 Marietta Ave\, Lancaster\, PA\, 17603\, United States
ATTACH;FMTTYPE=image/png:https://apostlesucc.org/wp-content/uploads/2025/10/Ministry-Fair-Fall-2025-Graphic.png
END:VEVENT
END:VCALENDAR