BEGIN:VCALENDAR
VERSION:2.0
PRODID:-//Church of the Apostles UCC - ECPv6.13.2.1//NONSGML v1.0//EN
CALSCALE:GREGORIAN
METHOD:PUBLISH
X-ORIGINAL-URL:https://apostlesucc.org
X-WR-CALDESC:Events for Church of the Apostles UCC
REFRESH-INTERVAL;VALUE=DURATION:PT1H
X-Robots-Tag:noindex
X-PUBLISHED-TTL:PT1H
BEGIN:VTIMEZONE
TZID:America/New_York
BEGIN:DAYLIGHT
TZOFFSETFROM:-0500
TZOFFSETTO:-0400
TZNAME:EDT
DTSTART:20250309T070000
END:DAYLIGHT
BEGIN:STANDARD
TZOFFSETFROM:-0400
TZOFFSETTO:-0500
TZNAME:EST
DTSTART:20251102T060000
END:STANDARD
BEGIN:DAYLIGHT
TZOFFSETFROM:-0500
TZOFFSETTO:-0400
TZNAME:EDT
DTSTART:20260308T070000
END:DAYLIGHT
BEGIN:STANDARD
TZOFFSETFROM:-0400
TZOFFSETTO:-0500
TZNAME:EST
DTSTART:20261101T060000
END:STANDARD
END:VTIMEZONE
BEGIN:VEVENT
DTSTART;VALUE=DATE:20251229
DTEND;VALUE=DATE:20260103
DTSTAMP:20260423T113708
CREATED:20250910T151826Z
LAST-MODIFIED:20251203T133215Z
UID:37344-1766966400-1767398399@apostlesucc.org
SUMMARY:Office Closed
DESCRIPTION:
URL:https://apostlesucc.org/event/office-closed-6/
LOCATION:PA
END:VEVENT
BEGIN:VEVENT
DTSTART;TZID=America/New_York:20260108T100000
DTEND;TZID=America/New_York:20260108T110000
DTSTAMP:20260423T113708
CREATED:20251211T142337Z
LAST-MODIFIED:20251211T142510Z
UID:37675-1767866400-1767870000@apostlesucc.org
SUMMARY:Compassion Team Spiritual Support Group
DESCRIPTION:The Compassion Team invites you to a monthly Spiritual Support Group beginning Thursday\, January 8\, from 10-11 AM in the Compassion Corner (Room 107). \nThis small\, caring group offers a confidential space to share joys and burdens\, reflect with a short devotion\, and pray for one another. All are welcome to find encouragement\, connection\, and rest in God’s presence.
URL:https://apostlesucc.org/event/compassion-team-spiritual-support-group/
LOCATION:Church of the Apostles UCC\, 1850 Marietta Ave\, Lancaster\, PA\, 17603\, United States
ATTACH;FMTTYPE=image/jpeg:https://apostlesucc.org/wp-content/uploads/2025/12/Compassion-Teams-Spiritual-Support-Group-Slide-1.jpg
END:VEVENT
BEGIN:VEVENT
DTSTART;TZID=America/New_York:20260110T180000
DTEND;TZID=America/New_York:20260110T210000
DTSTAMP:20260423T113708
CREATED:20260106T181928Z
LAST-MODIFIED:20260106T184028Z
UID:37748-1768068000-1768078800@apostlesucc.org
SUMMARY:Community Game Night
DESCRIPTION:Join us on Saturday\, January 10th\, for games\, snacks\, and fun in the Main Lobby. Bring your favorite games and invite your friends and family\, everyone is welcome!
URL:https://apostlesucc.org/event/community-game-night-7/
LOCATION:Church of the Apostles UCC\, 1850 Marietta Ave\, Lancaster\, PA\, 17603\, United States
ATTACH;FMTTYPE=image/png:https://apostlesucc.org/wp-content/uploads/2026/01/COA-Game-Night-FB-PostFlyer.png
END:VEVENT
BEGIN:VEVENT
DTSTART;TZID=America/New_York:20260113T140000
DTEND;TZID=America/New_York:20260113T150000
DTSTAMP:20260423T113708
CREATED:20251017T132104Z
LAST-MODIFIED:20251017T132104Z
UID:37436-1768312800-1768316400@apostlesucc.org
SUMMARY:Book Club
DESCRIPTION:Book Club meets on the 2nd Tuesday of each month at 2 PM in the Narthex\, and we’d love for you to join us! Whether you’ve read the book or not\, you’re welcome to come for engaging discussions and fellowship. \nJanuary 13th\, 2026: The Hello Girls by Eliz Cobbs
URL:https://apostlesucc.org/event/book-club-7/
LOCATION:Church of the Apostles UCC\, 1850 Marietta Ave\, Lancaster\, PA\, 17603\, United States
END:VEVENT
BEGIN:VEVENT
DTSTART;TZID=America/New_York:20260115T123000
DTEND;TZID=America/New_York:20260115T133000
DTSTAMP:20260423T113708
CREATED:20251211T192710Z
LAST-MODIFIED:20251211T192710Z
UID:37679-1768480200-1768483800@apostlesucc.org
SUMMARY:Finance Committee Meeting
DESCRIPTION:When: Second Thursday of the Month at 12:30 PM \nWhere: The Parlor \nThe Finance Committee supports the congregation by promoting responsible stewardship and providing oversight of the church’s finances. The committee plans and executes year-round stewardship efforts\, including annual campaigns for pledges of time\, talent\, and financial contributions. Additionally\, the committee promotes planned giving opportunities\, such as gifts from estates\, wills\, trusts\, annuities\, insurance policies\, and outright donations of money\, securities\, or property.
URL:https://apostlesucc.org/event/finance-committee-meeting-10/
LOCATION:Church of the Apostles UCC\, 1850 Marietta Ave\, Lancaster\, PA\, 17603\, United States
END:VEVENT
BEGIN:VEVENT
DTSTART;TZID=America/New_York:20260115T183000
DTEND;TZID=America/New_York:20260115T200000
DTSTAMP:20260423T113708
CREATED:20251013T155949Z
LAST-MODIFIED:20251013T155949Z
UID:37427-1768501800-1768507200@apostlesucc.org
SUMMARY:Mocktails & Meaning™: Changes in the Academic World
DESCRIPTION:Join us on Thursday\, January 15th at 6:30 PM in the Main Lobby for our first 2026 Mocktails & Meaning™ session. Recently retired Millersville Professor\, Dr. Jill Craven\, will share her insights on how academia has evolved during her tenure\, including shifts in social norms\, policies\, student life\, and the impact of technologies like ChatGPT. \nEnjoy meaningful conversation alongside our featured mocktail: Cherry Shirley Temple
URL:https://apostlesucc.org/event/mocktails-meaning-changes-in-the-academic-world/
LOCATION:Church of the Apostles UCC\, 1850 Marietta Ave\, Lancaster\, PA\, 17603\, United States
ATTACH;FMTTYPE=image/jpeg:https://apostlesucc.org/wp-content/uploads/2025/10/Mocktails-Meaning-Flyer-Banner-Landscape-scaled.jpg
END:VEVENT
BEGIN:VEVENT
DTSTART;TZID=America/New_York:20260117T090000
DTEND;TZID=America/New_York:20260117T120000
DTSTAMP:20260423T113708
CREATED:20251216T171117Z
LAST-MODIFIED:20251216T171117Z
UID:37684-1768640400-1768651200@apostlesucc.org
SUMMARY:January Board Retreat
DESCRIPTION:
URL:https://apostlesucc.org/event/january-board-retreat/
LOCATION:Church of the Apostles UCC\, 1850 Marietta Ave\, Lancaster\, PA\, 17603\, United States
END:VEVENT
BEGIN:VEVENT
DTSTART;VALUE=DATE:20260119
DTEND;VALUE=DATE:20260120
DTSTAMP:20260423T113708
CREATED:20250910T151915Z
LAST-MODIFIED:20250910T151915Z
UID:37346-1768780800-1768867199@apostlesucc.org
SUMMARY:Office Closed
DESCRIPTION:
URL:https://apostlesucc.org/event/office-closed-7/
LOCATION:PA
END:VEVENT
BEGIN:VEVENT
DTSTART;TZID=America/New_York:20260125T150000
DTEND;TZID=America/New_York:20260125T170000
DTSTAMP:20260423T113708
CREATED:20250730T163226Z
LAST-MODIFIED:20260126T170740Z
UID:37172-1769353200-1769360400@apostlesucc.org
SUMMARY:Apostles Academy Concerts: The Magic Flute
DESCRIPTION:You’re invited to a special afternoon of opera as Berks Opera\, in partnership with Albright College\, presents Mozart’s The Magic Flute on Sunday\, January 25\, 2026 at 3 PM in the Sanctuary at Church of the Apostles UCC\, 1850 Marietta Ave\, Lancaster\, PA. \nThis enchanting production combines powerful music\, imaginative storytelling\, and professional vocal talent in a performance that will move and entertain audiences of all ages. \n🎟 Free to attend! A free-will offering will be taken in lieu of tickets.♿ Our building is fully accessible\, with plenty of handicap parking available. \nAll are welcome to experience the magic of opera in a warm\, welcoming space!
URL:https://apostlesucc.org/event/apostles-academy-concerts-the-magic-flute/
LOCATION:Church of the Apostles UCC\, 1850 Marietta Ave\, Lancaster\, PA\, 17603\, United States
ATTACH;FMTTYPE=image/jpeg:https://apostlesucc.org/wp-content/uploads/2025/07/The-Magic-Flute-1.25.25.jpg
END:VEVENT
BEGIN:VEVENT
DTSTART;VALUE=DATE:20260126
DTEND;VALUE=DATE:20260127
DTSTAMP:20260423T113708
CREATED:20260126T170914Z
LAST-MODIFIED:20260126T170914Z
UID:37819-1769385600-1769471999@apostlesucc.org
SUMMARY:Office Closed for Snow
DESCRIPTION:
URL:https://apostlesucc.org/event/office-closed-for-snow/
LOCATION:Church of the Apostles UCC\, 1850 Marietta Ave\, Lancaster\, PA\, 17603\, United States
END:VEVENT
BEGIN:VEVENT
DTSTART;TZID=America/New_York:20260126T100000
DTEND;TZID=America/New_York:20260126T110000
DTSTAMP:20260423T113708
CREATED:20251217T184958Z
LAST-MODIFIED:20260126T170834Z
UID:37689-1769421600-1769425200@apostlesucc.org
SUMMARY:Asking the Hard Questions
DESCRIPTION:At Church of the Apostles\, we know many are carrying deep and honest questions about faith\, especially in light of what is happening in our country and throughout the world. Questions like “Where is God in all of this?” are not signs of weak faith\, but part of a faithful journey we are called to walk together. \nTo create space for these conversations\, we invite you to a new monthly series\, Asking the Hard Questions\, hosted by our seminary intern\, Deklan Lewis\, in the Parlor. Together\, we will explore doubt\, struggle\, and belief as meaningful parts of discipleship. Our first two gatherings will include viewing and discussing the film God on Trial as we wrestle\, much like Jacob\, with faith and what it means to follow Jesus today. \nTo accommodate different schedules\, two sessions will be offered each month: Monday morning\, January 26 at 10 AM\, and Thursday evening\, January 29 at 6 PM. All are welcome to join this thoughtful\, open\, and supportive conversation. \n 
URL:https://apostlesucc.org/event/asking-the-hard-questions/
LOCATION:Church of the Apostles UCC\, 1850 Marietta Ave\, Lancaster\, PA\, 17603\, United States
ATTACH;FMTTYPE=image/jpeg:https://apostlesucc.org/wp-content/uploads/2025/12/Asking-the-Hard-Questions-with-Deklan-Lewis.jpg
END:VEVENT
BEGIN:VEVENT
DTSTART;TZID=America/New_York:20260129T180000
DTEND;TZID=America/New_York:20260129T190000
DTSTAMP:20260423T113708
CREATED:20251217T185044Z
LAST-MODIFIED:20260128T135647Z
UID:37692-1769709600-1769713200@apostlesucc.org
SUMMARY:Asking the Hard Questions
DESCRIPTION:At Church of the Apostles\, we know many are carrying deep and honest questions about faith\, especially in light of what is happening in our country and throughout the world. Questions like “Where is God in all of this?” are not signs of weak faith\, but part of a faithful journey we are called to walk together. \nTo create space for these conversations\, we invite you to a new monthly series\, Asking the Hard Questions\, hosted by our seminary intern\, Deklan Lewis\, in the Parlor. Together\, we will explore doubt\, struggle\, and belief as meaningful parts of discipleship. Our first two gatherings will include viewing and discussing the film God on Trial as we wrestle\, much like Jacob\, with faith and what it means to follow Jesus today. \nTo accommodate different schedules\, two sessions will be offered each month: Monday morning\, January 26 at 10 AM\, and Thursday evening\, January 29 at 6 PM. All are welcome to join this thoughtful\, open\, and supportive conversation.
URL:https://apostlesucc.org/event/asking-the-hard-questions-2/
LOCATION:Church of the Apostles UCC\, 1850 Marietta Ave\, Lancaster\, PA\, 17603\, United States
ATTACH;FMTTYPE=image/jpeg:https://apostlesucc.org/wp-content/uploads/2025/12/Asking-the-Hard-Questions-with-Deklan-Lewis.jpg
END:VEVENT
END:VCALENDAR