BEGIN:VCALENDAR
VERSION:2.0
PRODID:-//Church of the Apostles UCC - ECPv6.13.2.1//NONSGML v1.0//EN
CALSCALE:GREGORIAN
METHOD:PUBLISH
X-ORIGINAL-URL:https://apostlesucc.org
X-WR-CALDESC:Events for Church of the Apostles UCC
REFRESH-INTERVAL;VALUE=DURATION:PT1H
X-Robots-Tag:noindex
X-PUBLISHED-TTL:PT1H
BEGIN:VTIMEZONE
TZID:America/New_York
BEGIN:DAYLIGHT
TZOFFSETFROM:-0500
TZOFFSETTO:-0400
TZNAME:EDT
DTSTART:20260308T070000
END:DAYLIGHT
BEGIN:STANDARD
TZOFFSETFROM:-0400
TZOFFSETTO:-0500
TZNAME:EST
DTSTART:20261101T060000
END:STANDARD
END:VTIMEZONE
BEGIN:VEVENT
DTSTART;TZID=America/New_York:20260201T150000
DTEND;TZID=America/New_York:20260201T170000
DTSTAMP:20260423T101038
CREATED:20251111T155914Z
LAST-MODIFIED:20251111T160948Z
UID:37557-1769958000-1769965200@apostlesucc.org
SUMMARY:Lancaster Association Music Fest
DESCRIPTION:
URL:https://apostlesucc.org/event/lancaster-association-music-fest/
LOCATION:Church of the Apostles UCC\, 1850 Marietta Ave\, Lancaster\, PA\, 17603\, United States
ATTACH;FMTTYPE=image/jpeg:https://apostlesucc.org/wp-content/uploads/2025/11/music-fest-scaled.jpg
END:VEVENT
BEGIN:VEVENT
DTSTART;TZID=America/New_York:20260208T100000
DTEND;TZID=America/New_York:20260208T110000
DTSTAMP:20260423T101039
CREATED:20260127T170221Z
LAST-MODIFIED:20260127T170221Z
UID:37836-1770544800-1770548400@apostlesucc.org
SUMMARY:Souper Bowl Sunday
DESCRIPTION:On Sunday\, February 8\, we will celebrate Souper Bowl Sunday\, led by our Primary Faith Formation students. Members are invited to bring cash\, spare change\, or a check to place in the bowls our children will hold during the collection. All funds raised will support our First Saturday Breakfast Ministry\, which provides a hot meal each month to more than 100 guests at First Reformed UCC on Orange Street.
URL:https://apostlesucc.org/event/souper-bowl-sunday/
LOCATION:Church of the Apostles UCC\, 1850 Marietta Ave\, Lancaster\, PA\, 17603\, United States
ATTACH;FMTTYPE=image/jpeg:https://apostlesucc.org/wp-content/uploads/2026/01/Souper-Bowl-Sunday-2026.jpg
END:VEVENT
BEGIN:VEVENT
DTSTART;TZID=America/New_York:20260210T140000
DTEND;TZID=America/New_York:20260210T150000
DTSTAMP:20260423T101039
CREATED:20251112T174542Z
LAST-MODIFIED:20251112T174542Z
UID:37609-1770732000-1770735600@apostlesucc.org
SUMMARY:Book Club
DESCRIPTION:  \nBook Club meets on the 2nd Tuesday of each month at 2 PM in the Narthex\, and we’d love for you to join us! Whether you’ve read the book or not\, you’re welcome to come for engaging discussions and fellowship. \nFebruary 10th\, 2026: Autism Out Loud by Swenson\, Carriello\, & Wood
URL:https://apostlesucc.org/event/book-club-8/
LOCATION:Church of the Apostles UCC\, 1850 Marietta Ave\, Lancaster\, PA\, 17603\, United States
END:VEVENT
BEGIN:VEVENT
DTSTART;TZID=America/New_York:20260212T100000
DTEND;TZID=America/New_York:20260212T110000
DTSTAMP:20260423T101039
CREATED:20260106T183338Z
LAST-MODIFIED:20260106T183338Z
UID:37768-1770890400-1770894000@apostlesucc.org
SUMMARY:Compassion Team Spiritual Support Group
DESCRIPTION:The Compassion Team invites you to a monthly Spiritual Support Group beginning Thursday\, January 8\, from 10-11 AM in the Compassion Corner (Room 107). \nThis small\, caring group offers a confidential space to share joys and burdens\, reflect with a short devotion\, and pray for one another. All are welcome to find encouragement\, connection\, and rest in God’s presence.
URL:https://apostlesucc.org/event/compassion-team-spiritual-support-group-2/
LOCATION:Church of the Apostles UCC\, 1850 Marietta Ave\, Lancaster\, PA\, 17603\, United States
ATTACH;FMTTYPE=image/jpeg:https://apostlesucc.org/wp-content/uploads/2025/12/Compassion-Teams-Spiritual-Support-Group-Slide-1.jpg
END:VEVENT
BEGIN:VEVENT
DTSTART;TZID=America/New_York:20260214T180000
DTEND;TZID=America/New_York:20260214T210000
DTSTAMP:20260423T101039
CREATED:20260106T182559Z
LAST-MODIFIED:20260106T184121Z
UID:37753-1771092000-1771102800@apostlesucc.org
SUMMARY:Community Game Night
DESCRIPTION:Join us on Saturday\, February 14th\, for games\, snacks\, and fun in the Main Lobby. Bring your favorite games and invite your friends and family\, everyone is welcome!
URL:https://apostlesucc.org/event/community-game-night-8/
LOCATION:Church of the Apostles UCC\, 1850 Marietta Ave\, Lancaster\, PA\, 17603\, United States
ATTACH;FMTTYPE=image/png:https://apostlesucc.org/wp-content/uploads/2026/01/COA-Game-Night-FB-PostFlyer.png
END:VEVENT
BEGIN:VEVENT
DTSTART;TZID=America/New_York:20260215T180000
DTEND;TZID=America/New_York:20260215T200000
DTSTAMP:20260423T101039
CREATED:20260127T164354Z
LAST-MODIFIED:20260127T164354Z
UID:37830-1771178400-1771185600@apostlesucc.org
SUMMARY:Youth Group Meeting
DESCRIPTION:Calling all students in grades 4-12 (and friends)! Join us for our Youth Group at 6 PM in our permanent room\, Rm 306\, where we’ll have fun\, build friendships\, enjoy snacks\, and dive into a short Bible study.
URL:https://apostlesucc.org/event/youth-group-meeting-15/
LOCATION:Church of the Apostles UCC\, 1850 Marietta Ave\, Lancaster\, PA\, 17603\, United States
ATTACH;FMTTYPE=image/jpeg:https://apostlesucc.org/wp-content/uploads/2026/01/Youth-Group-Meeting-Slide.jpg
END:VEVENT
BEGIN:VEVENT
DTSTART;TZID=America/New_York:20260216T190000
DTEND;TZID=America/New_York:20260216T203000
DTSTAMP:20260423T101039
CREATED:20260204T174019Z
LAST-MODIFIED:20260204T174019Z
UID:37881-1771268400-1771273800@apostlesucc.org
SUMMARY:Board Meeting
DESCRIPTION:
URL:https://apostlesucc.org/event/board-meeting-10/
LOCATION:Church of the Apostles UCC\, 1850 Marietta Ave\, Lancaster\, PA\, 17603\, United States
END:VEVENT
BEGIN:VEVENT
DTSTART;TZID=America/New_York:20260218T190000
DTEND;TZID=America/New_York:20260218T200000
DTSTAMP:20260423T101039
CREATED:20251217T185359Z
LAST-MODIFIED:20260127T154244Z
UID:37694-1771441200-1771444800@apostlesucc.org
SUMMARY:Ash Wednesday Service
DESCRIPTION:Join us for our Ash Wednesday service at 7 PM on February 18th as we begin the season of Lent together with prayer\, reflection\, and the imposition of ashes.“Remember you are dust\, and to dust you shall return.”All are welcome as we enter this sacred season of renewal and grace. 
URL:https://apostlesucc.org/event/ash-wednesday-service/
LOCATION:Church of the Apostles UCC\, 1850 Marietta Ave\, Lancaster\, PA\, 17603\, United States
ATTACH;FMTTYPE=image/jpeg:https://apostlesucc.org/wp-content/uploads/2025/12/Ash-Wednesday-Service-Post-2026.jpg
END:VEVENT
BEGIN:VEVENT
DTSTART;TZID=America/New_York:20260219T123000
DTEND;TZID=America/New_York:20260219T133000
DTSTAMP:20260423T101039
CREATED:20260106T182454Z
LAST-MODIFIED:20260211T131746Z
UID:37751-1771504200-1771507800@apostlesucc.org
SUMMARY:Finance Committee Meeting
DESCRIPTION:When: Second Thursday of the Month at 12:30 PM \nWhere: Rm 107 \nThe Finance Committee supports the congregation by promoting responsible stewardship and providing oversight of the church’s finances. The committee plans and executes year-round stewardship efforts\, including annual campaigns for pledges of time\, talent\, and financial contributions. Additionally\, the committee promotes planned giving opportunities\, such as gifts from estates\, wills\, trusts\, annuities\, insurance policies\, and outright donations of money\, securities\, or property.
URL:https://apostlesucc.org/event/finance-committee-meeting-11/
LOCATION:Church of the Apostles UCC\, 1850 Marietta Ave\, Lancaster\, PA\, 17603\, United States
END:VEVENT
BEGIN:VEVENT
DTSTART;TZID=America/New_York:20260219T183000
DTEND;TZID=America/New_York:20260219T200000
DTSTAMP:20260423T101039
CREATED:20260113T155626Z
LAST-MODIFIED:20260113T155626Z
UID:37810-1771525800-1771531200@apostlesucc.org
SUMMARY:Mocktails & Meaning™: Black History Matters
DESCRIPTION:Join us for our February Mocktails & Meaning™ gathering in honor of Black History Month on Thursday\, February 19 at 6:30 PM in the Main Lobby. \nTopic: Black History Matters\nFacilitator: Tracey Weis\, retired Millersville University professor\nMocktail: Starbucks copycat Pink Drink  \nTracey will lead a thoughtful conversation on the importance of African American history and its impact on our world today\, with time for shared reflection and discussion. We hope you’ll join us for a meaningful conversation and a delicious mocktail. \nRegister Here: https://conta.cc/4jE7YMx
URL:https://apostlesucc.org/event/mocktails-meaning-black-history-matters/
LOCATION:Church of the Apostles UCC\, 1850 Marietta Ave\, Lancaster\, PA\, 17603\, United States
ATTACH;FMTTYPE=image/jpeg:https://apostlesucc.org/wp-content/uploads/2026/01/Mocktails-Meaning-Banner-2.19.26-scaled.jpg
END:VEVENT
BEGIN:VEVENT
DTSTART;TZID=America/New_York:20260223T100000
DTEND;TZID=America/New_York:20260223T110000
DTSTAMP:20260423T101039
CREATED:20260106T182808Z
LAST-MODIFIED:20260106T182808Z
UID:37756-1771840800-1771844400@apostlesucc.org
SUMMARY:Asking the Hard Questions
DESCRIPTION:At Church of the Apostles\, we know many are carrying deep and honest questions about faith\, especially in light of what is happening in our country and throughout the world. Questions like “Where is God in all of this?” are not signs of weak faith\, but part of a faithful journey we are called to walk together. \nTo create space for these conversations\, we invite you to a new monthly series\, Asking the Hard Questions\, hosted by our seminary intern\, Deklan Lewis\, in the Parlor. Together\, we will explore doubt\, struggle\, and belief as meaningful parts of discipleship. Our first two gatherings will include viewing and discussing the film God on Trial as we wrestle\, much like Jacob\, with faith and what it means to follow Jesus today. \nTo accommodate different schedules\, two sessions will be offered each month: Monday morning\, February 23rd at 10 AM\, and Friday evening\, February 27th at 6 PM. All are welcome to join this thoughtful\, open\, and supportive conversation.
URL:https://apostlesucc.org/event/asking-the-hard-questions-3/
LOCATION:Church of the Apostles UCC\, 1850 Marietta Ave\, Lancaster\, PA\, 17603\, United States
ATTACH;FMTTYPE=image/jpeg:https://apostlesucc.org/wp-content/uploads/2025/12/Asking-the-Hard-Questions-with-Deklan-Lewis.jpg
END:VEVENT
BEGIN:VEVENT
DTSTART;TZID=America/New_York:20260224T170000
DTEND;TZID=America/New_York:20260224T180000
DTSTAMP:20260423T101039
CREATED:20260223T163504Z
LAST-MODIFIED:20260223T163504Z
UID:37968-1771952400-1771956000@apostlesucc.org
SUMMARY:Inclusive Church Team Meeting
DESCRIPTION:
URL:https://apostlesucc.org/event/inclusive-church-team-meeting/
LOCATION:Church of the Apostles UCC\, 1850 Marietta Ave\, Lancaster\, PA\, 17603\, United States
END:VEVENT
BEGIN:VEVENT
DTSTART;TZID=America/New_York:20260226T180000
DTEND;TZID=America/New_York:20260226T190000
DTSTAMP:20260423T101039
CREATED:20260106T182851Z
LAST-MODIFIED:20260213T193947Z
UID:37758-1772128800-1772132400@apostlesucc.org
SUMMARY:Asking the Hard Questions
DESCRIPTION:At Church of the Apostles\, we know many are carrying deep and honest questions about faith\, especially in light of what is happening in our country and throughout the world. Questions like “Where is God in all of this?” are not signs of weak faith\, but part of a faithful journey we are called to walk together. \nTo create space for these conversations\, we invite you to a new monthly series\, Asking the Hard Questions\, hosted by our seminary intern\, Deklan Lewis\, in the Parlor. Together\, we will explore doubt\, struggle\, and belief as meaningful parts of discipleship. Our first two gatherings will include viewing and discussing the film God on Trial as we wrestle\, much like Jacob\, with faith and what it means to follow Jesus today. \nTo accommodate different schedules\, two sessions will be offered each month: Monday morning\, February 23rd at 10 AM\, and Thursday evening\, February 26th at 6 PM. All are welcome to join this thoughtful\, open\, and supportive conversation.
URL:https://apostlesucc.org/event/asking-the-hard-questions-4/
LOCATION:Church of the Apostles UCC\, 1850 Marietta Ave\, Lancaster\, PA\, 17603\, United States
ATTACH;FMTTYPE=image/jpeg:https://apostlesucc.org/wp-content/uploads/2025/12/Asking-the-Hard-Questions-with-Deklan-Lewis.jpg
END:VEVENT
END:VCALENDAR